BEGIN:VCALENDAR
VERSION:2.0
PRODID:-//Radio Enthusiasts of Puget Sound - ECPv6.15.13//NONSGML v1.0//EN
CALSCALE:GREGORIAN
METHOD:PUBLISH
X-WR-CALNAME:Radio Enthusiasts of Puget Sound
X-ORIGINAL-URL:https://www.repsonline.org
X-WR-CALDESC:Events for Radio Enthusiasts of Puget Sound
REFRESH-INTERVAL;VALUE=DURATION:PT1H
X-Robots-Tag:noindex
X-PUBLISHED-TTL:PT1H
BEGIN:VTIMEZONE
TZID:America/Los_Angeles
BEGIN:DAYLIGHT
TZOFFSETFROM:-0800
TZOFFSETTO:-0700
TZNAME:PDT
DTSTART:20230312T100000
END:DAYLIGHT
BEGIN:STANDARD
TZOFFSETFROM:-0700
TZOFFSETTO:-0800
TZNAME:PST
DTSTART:20231105T090000
END:STANDARD
BEGIN:DAYLIGHT
TZOFFSETFROM:-0800
TZOFFSETTO:-0700
TZNAME:PDT
DTSTART:20240310T100000
END:DAYLIGHT
BEGIN:STANDARD
TZOFFSETFROM:-0700
TZOFFSETTO:-0800
TZNAME:PST
DTSTART:20241103T090000
END:STANDARD
BEGIN:DAYLIGHT
TZOFFSETFROM:-0800
TZOFFSETTO:-0700
TZNAME:PDT
DTSTART:20250309T100000
END:DAYLIGHT
BEGIN:STANDARD
TZOFFSETFROM:-0700
TZOFFSETTO:-0800
TZNAME:PST
DTSTART:20251102T090000
END:STANDARD
END:VTIMEZONE
BEGIN:VEVENT
DTSTART;TZID=America/Los_Angeles:20240321T000000
DTEND;TZID=America/Los_Angeles:20240324T235959
DTSTAMP:20260424T191631
CREATED:20240321T085735Z
LAST-MODIFIED:20240321T085735Z
UID:8999-1710979200-1711324799@www.repsonline.org
SUMMARY:REPS SHOWCASE - JOIN LIVE VIA ZOOM!
DESCRIPTION:REPS SHOWCASE 2024 is happening this weekend! \nIf you’d like to see any of these shows\, or hear them\, these are our offerings LIVE via Zoom for you! \nIt’s always better in person but we want to include our REPS Community worldwide\, so please JOIN US! \nTickets to see shows are still available for walk ups or last minute but meals are no longer available.  Consider coming to Hotel 116 if you’d like to see these LIVE! \n  \nRemember\, WIFI is not without flaws and we’ll do our best to keep Webinars up and running as scheduled.  We appreciate your patience! \nWEBINAR LINKS BELOW with schedule notes: \n  \nTHURSDAY NIGHT WEBINAR: \nTHURSDAY NIGHT HIGHLIGHTS – FREE PROGRAMS: \n\nScreen Guild Theater episode “Adorable” introduces some new talents to REPS\, while featuring some of our great REPS Players based in Washington State.  This show originally starred Shirley Temple in 1946.  In fact\, our own Tommy Cook was in the original in 1946 playing the King!\nMystery Theater\, Scarlet Queen and Tales of the Texas Ranger will all feature our talented REPS Players  – celebrate the REPS Showcase kick-off with some great local talent!\n\nWhen: Mar 21\, 2024 07:00 PM Pacific Time (US and Canada) \nTopic: REPS Showcase: Thursday Night – Screen Guild Theater\, Mystery Theater\, Scarlet Queen\, Tales of the Texas Ranger LIVE!! \nPlease click the link below to join the webinar: \nhttps://us02web.zoom.us/j/81109644656?pwd=SjExa1lhM1ExTFFvWFJHSGQ1MXdxZz09 \nWebinar ID: 811 0964 4656 \nPasscode: 850692 \n  \nFRIDAY DAYTIME WEBINARS: \nFRIDAY DAYTIME HIGHLIGHTS: \n\nFirst Nighter was a classic show that ran for 23 years and was one of America’s favorite shows.  This is a story around the boxing game.\nJoe Webb will discuss Theater Five\, a 1960s anthology series airing on ABC radio.\nCalvacade of America features the trip of our president going to speak at Gettysburg in November of 1863.\nGrand Central Station stars Mimi Gibson who wants her adult children to like her future husband.\nPerry Huntoon will give a history on the great singing team\, the Andrew Sisters.\nJohn and Larry Gassman will interview Mimi Gibson who had a major career in films and TV shows in the 1950s.\nTerry Rose\, Dave Ross\, and Larry Albert reprise their roles in Kincaid\, the StrangeSeeker: “A Dog Named Who.” This whimsical episode was originally produced in 1999 by Jim French Productions.\n\nWhen: Mar 22\, 2024 09:00 AM Pacific Time (US and Canada) \nTopic: REPS Showcase: Friday Morning – First Nighter LIVE!! \nPlease click the link below to join the webinar: \nhttps://us02web.zoom.us/j/81204948869?pwd=SzJXYms3Z0tXZlBoaHhNSmRLaEtDQT09 \nWebinar ID: 812 0494 8869 \nPasscode: 013259 \n  \nWhen: Mar 22\, 2024 10:00 AM Pacific Time (US and Canada) \nTopic: REPS Showcase: Friday Program – Joe Webb with History of Theater Five LIVE!! \nPlease click the link below to join the webinar: \nhttps://us02web.zoom.us/j/86808467686?pwd=ZXlabDU2d2JZSjU0SnZKUFphR3BlUT09 \nPasscode: 682903 \n  \nWhen: Mar 22\, 2024 11:00 AM Pacific Time (US and Canada) \nTopic: REPS Showcase: Friday Program – Cavalcade of America LIVE!! \nPlease click the link below to join the webinar: \nhttps://us02web.zoom.us/j/89743583004?pwd=L2lFTVdEMmp0VHp1TGdvS0RaNGRuQT09 \nWebinar ID: 897 4358 3004 \nPasscode: 860911 \nWhen: Mar 22\, 2024 01:00 PM Pacific Time (US and Canada) \nTopic: REPS Showcase: Friday Afternoon – Grand Central Station\, Perry Huntoon presents History of a Music Star\, John and Larry Gassman interview Mimi Gibson LIVE!! \nPlease click the link below to join the webinar: \nhttps://us02web.zoom.us/j/86322147542?pwd=SGgveERyeG1raWROYVZlaWFrM3c2UT09 \nWebinar ID: 863 2214 7542 \nPasscode: 157470 \n  \nWhen: Mar 22\, 2024 04:15 PM Pacific Time (US and Canada) \nTopic: REPS Showcase: Friday Afternoon – Kincaid the Strange Seeker – A Dog Named Who LIVE!! \nPlease click the link below to join the webinar: \nhttps://us02web.zoom.us/j/81087065294?pwd=RHVHUnlUa1Rmd293cG15U3QxdUFaUT09 \nWebinar ID: 810 8706 5294 \nPasscode: 908358 \n  \nFRIDAY NIGHT WEBINAR: \nFRIDAY NIGHT HIGHLIGHTS: \n\nEthel and Albert stars Beverly Washburn and Bryan Hendrickson\nPhil Harris and Alice Faye stars Karolyn Grimes and Tommy Cook\nGreat Gildersleeve stars Brad Zinn\, Margaret O\,Brien\, Beverly Washburn\, Dave Selvig and Tommy Cook\n\nWhen: Mar 22\, 2024 07:30 PM Pacific Time (US and Canada) \nTopic: REPS Showcase: Friday Night – Ethel and Albert – Their First Kiss\, Phil Harris and Alice Faye\, Great Gildersleeves LIVE!! \nPlease click the link below to join the webinar: \nhttps://us02web.zoom.us/j/86492600608?pwd=S0xHYUpaUStWam1iRDB6NXdoc2xUdz09 \nWebinar ID: 864 9260 0608 \nPasscode: 330863 \n  \n  \nSATURDAY DAYTIME WEBINAR: \nSATURDAY DAYTIME HIGHLIGHTS: \n\nREPS presents a recreation of The Thin Man\, one of America’s favorite mystery series\, based on characters created by Dashiell Hammett.\nJohn Jensen will present the History of Radio Quiz Shows\,\nBrad Zinn and Karolyn Grimes star in Night Beat.\nRyan Asbert and Beverly Washburn will star in Fibber McGee and Molly. Fibber tries to rescue Teeny’s cat.\nPerry Huntoon covers Bing Crosby’s radio career that ran for over 30 years.\nJohn and Larry Gassman interview Margaret O’Brien (Meet Me in St. Louis)\nCraig Wichman and Larry Albert star in Sherlock Holmes!\n\nWhen: Mar 23\, 2024 09:00 AM Pacific Time (US and Canada) \nTopic: REPS Showcase: Saturday Morning – Thin Man LIVE!! \nPlease click the link below to join the webinar: \nhttps://us02web.zoom.us/j/88053877152?pwd=ZFVQRlorOCtQdEE0VVgzUnU5VWxiUT09 \nWebinar ID: 880 5387 7152 \nPasscode: 432934 \n  \nWhen: Mar 23\, 2024 11:00 AM Pacific Time (US and Canada) \nTopic: REPS Showcase: Saturday Morning – Night Beat LIVE!! \nPlease click the link below to join the webinar: \nhttps://us02web.zoom.us/j/81738950895?pwd=d2hSNFNwRVBoNUZ1NFhLUXRuV0szZz09 \nWebinar ID: 817 3895 0895 \nPasscode: 262904 \n  \nWhen: Mar 23\, 2024 01:00 PM Pacific Time (US and Canada) \nTopic: REPS Showcase: Saturday Afternoon – Fibber McGee and Molly\, Perry Huntoon presents the History of Bing Crosby on Radio\, John and Larry Gassman interview Margaret O’Brien LIVE!! \nPlease click the link below to join the webinar: \nhttps://us02web.zoom.us/j/83657684500?pwd=L2NIZjIvWjRHdEN1UnlhVnBHQXpVZz09 \nWebinar ID: 836 5768 4500 \nPasscode: 623560 \n  \nWhen: Mar 23\, 2024 04:15 PM Pacific Time (US and Canada) \nTopic: REPS Showcase: Saturday Afternoon – Sherlock Holmes LIVE!! \nPlease click the link below to join the webinar: \nhttps://us02web.zoom.us/j/89393898102?pwd=OXlRUWx1Y2poeVRqRDRObE11ZHdTZz09 \nWebinar ID: 893 9389 8102 \nPasscode: 283451 \n  \nSATURDAY NIGHT WEBINAR: \nSATURDAY NIGHT HIGHLIGHTS: \n\nBeverly Washburn and Bryan Hendrickson are on vacation at the Grand Canyon in Ethel and Albert\nMargaret O’Brien and Tommy Cook star in The Distasteful Tenant\, a new mystery play written and directed by Roger Kim\nBrad Zinn stars as Jack Benny in The Jack Benny Show.  Jack goes to the train Station.\n\nWhen: Mar 23\, 2024 07:30 PM Pacific Time (US and Canada) \nTopic: REPS Showcase: Saturday Night – Ethel and Albert – Grand Canyon\, The Distasteful Tenant\, Jack Benny Radio Show LIVE!! \nPlease click the link below to join the webinar: \nhttps://us02web.zoom.us/j/84954190445?pwd=TnYwK09TdTluZzNlU016VjhJbnRFQT09 \nWebinar ID: 849 5419 0445 \nPasscode: 501319 \n  \nSUNDAY MORNING WEBINAR: \nSUNDAY HIGHLIGHTS: \n\nJohn and Larry Gassman interview actress Karolyn Grimes!  Karolyn played Zuzu in the classic film It’s a Wonderful Life (1946) that starred Jimmy Stewart.  Join us for some time to learn more about Karolyn and close our REPS Showcase weekend!\n\nWhen: Mar 24\, 2024 10:00 AM Pacific Time (US and Canada) \nTopic: REPS Showcase: Sunday Morning – Interview with Karolyn Grimes LIVE!! \nPlease click the link below to join the webinar: \nhttps://us02web.zoom.us/j/84744243425?pwd=QmFSc0ZKcXdKVFhlRi95YWJlQlo1dz09 \nWebinar ID: 847 4424 3425 \nPasscode: 049704
URL:https://www.repsonline.org/event/reps-showcase-join-live-via-zoom/
LOCATION:Hotel 116\, 625 116th Avenue Northeast\,\, Bellevue\, WA\, 98004\, United States
CATEGORIES:REPS Presents LIVE,REPS Showcase,Zoom: Performance
ATTACH;FMTTYPE=image/jpeg:https://www.repsonline.org/wp-content/uploads/2024/03/Showcase-Graphic.jpg
END:VEVENT
END:VCALENDAR