BEGIN:VCALENDAR
VERSION:2.0
PRODID:-//Radio Enthusiasts of Puget Sound - ECPv6.15.13//NONSGML v1.0//EN
CALSCALE:GREGORIAN
METHOD:PUBLISH
X-ORIGINAL-URL:https://www.repsonline.org
X-WR-CALDESC:Events for Radio Enthusiasts of Puget Sound
REFRESH-INTERVAL;VALUE=DURATION:PT1H
X-Robots-Tag:noindex
X-PUBLISHED-TTL:PT1H
BEGIN:VTIMEZONE
TZID:America/Los_Angeles
BEGIN:DAYLIGHT
TZOFFSETFROM:-0800
TZOFFSETTO:-0700
TZNAME:PDT
DTSTART:20240310T100000
END:DAYLIGHT
BEGIN:STANDARD
TZOFFSETFROM:-0700
TZOFFSETTO:-0800
TZNAME:PST
DTSTART:20241103T090000
END:STANDARD
BEGIN:DAYLIGHT
TZOFFSETFROM:-0800
TZOFFSETTO:-0700
TZNAME:PDT
DTSTART:20250309T100000
END:DAYLIGHT
BEGIN:STANDARD
TZOFFSETFROM:-0700
TZOFFSETTO:-0800
TZNAME:PST
DTSTART:20251102T090000
END:STANDARD
BEGIN:DAYLIGHT
TZOFFSETFROM:-0800
TZOFFSETTO:-0700
TZNAME:PDT
DTSTART:20260308T100000
END:DAYLIGHT
BEGIN:STANDARD
TZOFFSETFROM:-0700
TZOFFSETTO:-0800
TZNAME:PST
DTSTART:20261101T090000
END:STANDARD
END:VTIMEZONE
BEGIN:VEVENT
DTSTART;TZID=America/Los_Angeles:20251205T183000
DTEND;TZID=America/Los_Angeles:20251205T220000
DTSTAMP:20260423T171735
CREATED:20251029T074249Z
LAST-MODIFIED:20251204T081609Z
UID:9841-1764959400-1764972000@www.repsonline.org
SUMMARY:REPS Presents: A Christmas Show - Friday Night Program
DESCRIPTION:REPS Presents: A Christmas Show! \nJoin us for two days of holiday cheer as we celebrate the holidays with some Old Time Radio LIVE recreations! \nEnjoy special guest stars including: Keith Scott\, Beverly Washburn\, Gigi Perreau\, Bill Ratner\, Ron Cocking\, Larry Albert\, Craig Wichman\, Linda Bearman and more! \n \n  \n  \nFRIDAY NIGHT 12-5-25 \n6:35 PM    Doors Open \n7 PM          Ethel and Albert starring Beverly Washburn\, Bryan Hendrickson and Randy Clawson.  Directed by Linda Bearman. \nLive music by Randy and Chris McMillan\, Live SFX by Kim Bragg\, Audio by Jim Dolan and Sam Bartlow\, Video production by Ryan Asbert. \n7:30 PM    Holiday Inn starring Larry Albert\, Jenn Ollivier\, Bryan Hendrickson\, Dean T. Moody and Randy Clawson.  Directed by Jeanine Ollivier. \nLive music by Randy and Chris McMillan\, Live SFX by Bruce Johnson\, Audio by Jim Dolan and Sam Bartlow\, Video production by Ryan Asbert. \n8:30 PM    Jack Benny starring Keith Scott\, Bill Ratner\, Beverly Washburn\, Ivan Cury\, Ron Cocking\, Bryan Hendrickson\, Larry Gassman\, Craig Wichman\, Randy Clawson\, Mike Hingson and David Persson.  Directed by David Persson. \nLive music by Chad Renne\, Live SFX by Kim Bragg\, Audio by Jim Dolan and Sam Bartlow\, Video production by Ryan Asbert. \n9:15 PM    Dessert and social hour \n  \nIf you plan to tune in online\, read this important update:\nNEW INFO FOR STREAMING – REPS ONLINE YOUTUBE CHANNEL! \nWe’re excited to share that streaming for REPS Programs has moved to YouTube for this event! \nHOW TO ACCESS:\n– CLICK HERE to visit the REPS Online YouTube Channel\n– Click on SUBSCRIBE\n– Hit the BELL ICON to opt in for notifications\n– Select ALL notifications\n– Once you are on the channel page\, you can see the scheduled streams for the shows scheduled\n– Look for the scheduled show you want to watch\, you can click there when it’s time for that show! \n  \n 
URL:https://www.repsonline.org/event/reps-presents-a-christmas-show-friday-night-program/
LOCATION:Hotel 116\, 625 116th Avenue Northeast\,\, Bellevue\, WA\, 98004\, United States
CATEGORIES:REPS Presents LIVE,REPS Radio Event
ATTACH;FMTTYPE=image/png:https://www.repsonline.org/wp-content/uploads/2025/10/REPS_Christmas_Ad_2025_v06-scaled.png
END:VEVENT
BEGIN:VEVENT
DTSTART;TZID=America/Los_Angeles:20251206T090000
DTEND;TZID=America/Los_Angeles:20251206T170000
DTSTAMP:20260423T171735
CREATED:20251029T080759Z
LAST-MODIFIED:20251204T081545Z
UID:9848-1765011600-1765040400@www.repsonline.org
SUMMARY:REPS Presents: A Christmas Show – Saturday Daytime Program
DESCRIPTION:REPS Presents: A Christmas Show! \nJoin us for two days of holiday cheer as we celebrate the holidays with some Old Time Radio LIVE recreations! \nEnjoy special guest stars including: Keith Scott\, Beverly Washburn\, Gigi Perreau\, Bill Ratner\, Ron Cocking\, Larry Albert\, Craig Wichman\, Linda Bearman and more! \n \n  \nSATURDAY DAYTIME 12-6-25 \n9 AM         Journey of the Magi starring Ivan Cury\, Ron Cocking\, Bill Ratner\, Craig Wichman David Selvig\, Randy Clawson\, David Persson and Linda Bearman. Directed by Alice Watson. \nLive music by Randy and Chris McMillan\, Live SFX by Bruce Johnson\, Audio by Jim Dolan and Sam Bartlow\, Video production by Ryan Asbert. \n10 AM       Hall of Ivy starring Keith Scott\, Linda Bearman\, Ivan Cury\, Ron Cocking\, Larry Albert\, Sam Bartlow\, Mike Hingson and Larry Gassman. Directed by Alice Watson. \nLive music by Chad Renne\, Live SFX by Kim Bragg\, Audio by Jim Dolan and Cody Chriest\, Video production by Ryan Asbert \n10:45 AM  Miracle on 34th Street starring Ivan Cury\, Randy Clawson\, Dean T. Moody\, Jenn Ollivier\, Bryan Hendrickson\, Alice Watson\, Jeanine Ollivier\, Sharon Chriest and Ryan Asbert.  Directed by Jeanine Ollivier. \nLive music by Randy and Chris McMillan\, Live SFX by Bruce Johnson\, Audio by Jim Dolan and Sam Bartlow\, Video production by Ryan Asbert. \n  \n1 PM   Keith Scott’s One Man Show! \n1:30 PM  Keith Scott interviewed by Larry Gassman \n2:30 PM  Fibber McGee and Molly starring Bill Ratner\, Craig Wichman\, Gigi Perreau\, Mike Hingson\, Linda Bearman\, Larry Gassman\, David Selvig and Jenn Ollivier.  Directed by Alice Watson. \nLive music by Chad Renne\, Live SFX by Kim Bragg\, Audio by Jim Dolan and Cody Chriest\, Video production by Ryan Asbert \n3:15 PM  A Christmas Carol starring Craig Wichman\, co-directed by Craig Wichman and Larry Albert. \nLive music by Chad Renne\, Live SFX by Bruce Johnson and Kim Bragg\, Audio by Jim Dolan and Sam Bartlow\, Video production by Ryan Asbert. \n4:30 PM  Craig Wichman interviewed by Larry Gassman about Christmas Carol on radio \n  \nIf you plan to tune in online\, read this important update:\nNEW INFO FOR STREAMING – REPS ONLINE YOUTUBE CHANNEL! \nWe’re excited to share that streaming for REPS Programs has moved to YouTube for this event! \nHOW TO ACCESS:\n– CLICK HERE to visit the REPS Online YouTube Channel\n– Click on SUBSCRIBE\n– Hit the BELL ICON to opt in for notifications\n– Select ALL notifications\n– Once you are on the channel page\, you can see the scheduled streams for the shows scheduled\n– Look for the scheduled show you want to watch\, you can click there when it’s time for that show! \n  \n  \n  \n  \n  \n  \n  \n  \n  \n  \n  \n 
URL:https://www.repsonline.org/event/reps-presents-a-christmas-show-saturday-daytime-program/
LOCATION:Hotel 116\, 625 116th Avenue Northeast\,\, Bellevue\, WA\, 98004\, United States
CATEGORIES:REPS Presents LIVE,REPS Radio Event,Zoom: Performance
ATTACH;FMTTYPE=image/png:https://www.repsonline.org/wp-content/uploads/2025/10/REPS_Christmas_Ad_2025_v06-scaled.png
END:VEVENT
BEGIN:VEVENT
DTSTART;TZID=America/Los_Angeles:20251206T190000
DTEND;TZID=America/Los_Angeles:20251206T220000
DTSTAMP:20260423T171735
CREATED:20251029T082116Z
LAST-MODIFIED:20251204T081522Z
UID:9852-1765047600-1765058400@www.repsonline.org
SUMMARY:REPS Presents: A Christmas Show – Saturday Night Program
DESCRIPTION:REPS Presents: A Christmas Show! \nJoin us for two days of holiday cheer as we celebrate the holidays with some Old Time Radio LIVE recreations! \nEnjoy special guest stars including: Keith Scott\, Beverly Washburn\, Gigi Perreau\, Bill Ratner\, Ron Cocking\, Larry Albert\, Craig Wichman\, Linda Bearman and more! \n \n  \nSATURDAY NIGHT 12-6-25 \n6:45 PM    Doors Open \n7 PM         Couple Next Door starring Beverly Washburn\, Bryan Hendrickson\, Linda Bearman\, Jenn Ollivier\, Sam Bartlow and Randy Clawson.  Directed by Linda Bearman. \n7:15 PM    Couple Next Door – Setting up a Doll House starring Beverly Washburn\, Bryan Hendrickson\, Linda Bearman\, Jenn Ollivier and Randy Clawson.  Directed by Linda Bearman. \nLive music by Randy and Chris McMillan\, Live SFX by Kim Bragg\, Audio by Jim Dolan and Sam Bartlow\, Video production by Ryan Asbert. \n7:45 PM    It’s a Wonderful Life starring Keith Scott\, Gigi Perreau\, Bill Ratner\, Ivan Cury\, Ron Cocking\, Larry Albert\, Monica Chilton\, Ryan Asbert\, John Jensen\, Randy Clawson\, Mike Hingson\, Craig Wichman\, Lindsey Dabek\, Jeanine Ollivier\, Bryan Hendrickson\, Jenn Ollivier\, Dean T. Moody\, David Persson.  Directed by Alice Watson. \nLive music by Jamison Colagrossi\, Live SFX by Bruce Johnson and Kim Bragg\, Audio by Jim Dolan\, Cody Chriest and Sam Bartlow\, Video production by Ryan Asbert. \n9:15 PM    Dessert and social hour \n  \nIf you plan to tune in online\, read this important update:\nNEW INFO FOR STREAMING – REPS ONLINE YOUTUBE CHANNEL! \nWe’re excited to share that streaming for REPS Programs has moved to YouTube for this event! \nHOW TO ACCESS:\n– CLICK HERE to visit the REPS Online YouTube Channel\n– Click on SUBSCRIBE\n– Hit the BELL ICON to opt in for notifications\n– Select ALL notifications\n– Once you are on the channel page\, you can see the scheduled streams for the shows scheduled\n– Look for the scheduled show you want to watch\, you can click there when it’s time for that show! \n 
URL:https://www.repsonline.org/event/reps-presents-a-christmas-show-saturday-night-program/
LOCATION:Hotel 116\, 625 116th Avenue Northeast\,\, Bellevue\, WA\, 98004\, United States
CATEGORIES:REPS Presents LIVE,REPS Radio Event,Zoom: Performance
ATTACH;FMTTYPE=image/png:https://www.repsonline.org/wp-content/uploads/2025/10/REPS_Christmas_Ad_2025_v06-scaled.png
END:VEVENT
END:VCALENDAR