BEGIN:VCALENDAR
VERSION:2.0
PRODID:-//Radio Enthusiasts of Puget Sound - ECPv6.15.13//NONSGML v1.0//EN
CALSCALE:GREGORIAN
METHOD:PUBLISH
X-ORIGINAL-URL:https://www.repsonline.org
X-WR-CALDESC:Events for Radio Enthusiasts of Puget Sound
REFRESH-INTERVAL;VALUE=DURATION:PT1H
X-Robots-Tag:noindex
X-PUBLISHED-TTL:PT1H
BEGIN:VTIMEZONE
TZID:America/Los_Angeles
BEGIN:DAYLIGHT
TZOFFSETFROM:-0800
TZOFFSETTO:-0700
TZNAME:PDT
DTSTART:20230312T100000
END:DAYLIGHT
BEGIN:STANDARD
TZOFFSETFROM:-0700
TZOFFSETTO:-0800
TZNAME:PST
DTSTART:20231105T090000
END:STANDARD
BEGIN:DAYLIGHT
TZOFFSETFROM:-0800
TZOFFSETTO:-0700
TZNAME:PDT
DTSTART:20240310T100000
END:DAYLIGHT
BEGIN:STANDARD
TZOFFSETFROM:-0700
TZOFFSETTO:-0800
TZNAME:PST
DTSTART:20241103T090000
END:STANDARD
BEGIN:DAYLIGHT
TZOFFSETFROM:-0800
TZOFFSETTO:-0700
TZNAME:PDT
DTSTART:20250309T100000
END:DAYLIGHT
BEGIN:STANDARD
TZOFFSETFROM:-0700
TZOFFSETTO:-0800
TZNAME:PST
DTSTART:20251102T090000
END:STANDARD
END:VTIMEZONE
BEGIN:VEVENT
DTSTART;TZID=America/Los_Angeles:20241026T193000
DTEND;TZID=America/Los_Angeles:20241026T213000
DTSTAMP:20260424T080712
CREATED:20240918T080428Z
LAST-MODIFIED:20241025T071416Z
UID:9124-1729971000-1729978200@www.repsonline.org
SUMMARY:REPS Presents: Halloween Spooktacular 2024!
DESCRIPTION:It’s that time of year again – time to get SPOOKY with our REPS Halloween Spooktacular directed by Roger Kim! \nWhat creepy shows will we find for you to enjoy this year?\nFeaturing presentations of:  Three Skeleton Key\, The Ghost Who Forgot Halloween\, The Black Door and an original scipt by Roger Kim\, The Four Chairs! \nGET YOUR TICKETS HERE! \nWith the talents of Larry Albert\, Ryan Asbert\, Lindsey Dabek\, Hilary Heinz Luthi\, Bryan Hendrickson\, Dean T. Moody\, David Persson and Alice Watson\nLive SFX by Bruce Johnson\nLive Music performed by Sawyer Best\nDirected by Roger Kim \nLIVE at Kenyon Hall in West Seattle\, we’re excited to bring you another program filled with history and mystery… \nMark your calendars and we hope to see you there for a scare!\nCan’t make it?  We’ll be streaming (and screaming!) – DETAILS BELOW!  \n \nWhen: Oct 26\, 2024 07:30 PM Pacific Time (US and Canada)\nTopic: REPS Presents – Spooktacular 2024!! \nPlease click the link below to join the webinar:\nhttps://us02web.zoom.us/j/87520749745?pwd=Y5XLhPvIrlP5tHzSGz0FCe7sOtVb5q.1 \nPasscode: 633551 \nOr One tap mobile :\n+12532158782\,\,87520749745#\,\,\,\,*633551# US (Tacoma)\n+12532050468\,\,87520749745#\,\,\,\,*633551# US\nOr Telephone:\nDial(for higher quality\, dial a number based on your current location):\n+1 253 215 8782 US (Tacoma)\n+1 253 205 0468 US\n+1 719 359 4580 US\n+1 346 248 7799 US (Houston)\n+1 669 444 9171 US\n+1 669 900 9128 US (San Jose)\n+1 301 715 8592 US (Washington DC)\n+1 305 224 1968 US\n+1 309 205 3325 US\n+1 312 626 6799 US (Chicago)\n+1 360 209 5623 US\n+1 386 347 5053 US\n+1 507 473 4847 US\n+1 564 217 2000 US\n+1 646 558 8656 US (New York)\n+1 646 931 3860 US\n+1 689 278 1000 US \nWebinar ID: 875 2074 9745\nPasscode: 633551 \nInternational numbers available: https://us02web.zoom.us/u/kdCca0Tmqq \n  \n  \n  \n 
URL:https://www.repsonline.org/event/reps-presents-halloween-spooktacular-2024/
LOCATION:Kenyon Hall\, 7904 35th Avenue SW\, Seattle\, WA\, 98126\, United States
CATEGORIES:REPS Presents LIVE
ATTACH;FMTTYPE=image/jpeg:https://www.repsonline.org/wp-content/uploads/2024/09/Spooktacular_2024_v7-scaled.jpg
END:VEVENT
END:VCALENDAR