BEGIN:VCALENDAR
VERSION:2.0
PRODID:-//Radio Enthusiasts of Puget Sound - ECPv6.15.13//NONSGML v1.0//EN
CALSCALE:GREGORIAN
METHOD:PUBLISH
X-WR-CALNAME:Radio Enthusiasts of Puget Sound
X-ORIGINAL-URL:https://www.repsonline.org
X-WR-CALDESC:Events for Radio Enthusiasts of Puget Sound
REFRESH-INTERVAL;VALUE=DURATION:PT1H
X-Robots-Tag:noindex
X-PUBLISHED-TTL:PT1H
BEGIN:VTIMEZONE
TZID:America/Los_Angeles
BEGIN:DAYLIGHT
TZOFFSETFROM:-0800
TZOFFSETTO:-0700
TZNAME:PDT
DTSTART:20190310T100000
END:DAYLIGHT
BEGIN:STANDARD
TZOFFSETFROM:-0700
TZOFFSETTO:-0800
TZNAME:PST
DTSTART:20191103T090000
END:STANDARD
BEGIN:DAYLIGHT
TZOFFSETFROM:-0800
TZOFFSETTO:-0700
TZNAME:PDT
DTSTART:20200308T100000
END:DAYLIGHT
BEGIN:STANDARD
TZOFFSETFROM:-0700
TZOFFSETTO:-0800
TZNAME:PST
DTSTART:20201101T090000
END:STANDARD
BEGIN:DAYLIGHT
TZOFFSETFROM:-0800
TZOFFSETTO:-0700
TZNAME:PDT
DTSTART:20210314T100000
END:DAYLIGHT
BEGIN:STANDARD
TZOFFSETFROM:-0700
TZOFFSETTO:-0800
TZNAME:PST
DTSTART:20211107T090000
END:STANDARD
END:VTIMEZONE
BEGIN:VEVENT
DTSTART;TZID=America/Los_Angeles:20201209T190000
DTEND;TZID=America/Los_Angeles:20201209T190000
DTSTAMP:20260423T153235
CREATED:20201204T030712Z
LAST-MODIFIED:20201204T030712Z
UID:7171-1607540400-1607540400@www.repsonline.org
SUMMARY:REPS Presents - An Evening with Bob Mills
DESCRIPTION:REPS is proud to bring you An Evening with comedy writer and author of THE LAUGH MAKERS\, Bob Mills!  He brings his fond recollections of travelling the globe with BOB HOPE in the 1970s and 1980s — from Peking to London… Stockholm to the Bahamas. \nIn our conversation with Bob\, he recalls Hope’s close relationship with his writers\, explaining how the Hope specials were conceived and written and what it was like working with Hope on a daily basis.  Interviewed by Walden Hughes and Lindsey Dabek\, we will uncover fun stories and memories and collect Q&A from our audience later in the program! \nJoin Bob for a fascinating and nostalgic stroll down memory lane\, including hilarious stories and anecdotes of Hope and his guests! \nRegister HERE for Zoom Webinar – FREE EVENT\, please join us! \nWhen: Dec 9\, 2020 07:00 PM Pacific Time (US and Canada)\nTopic: REPS Presents – “An Evening with Bob Mills” \nRegister in advance for this webinar:\nhttps://us02web.zoom.us/webinar/register/WN_yyPMENzhQIeyziWu2P9WTg \nAfter registering\, you will receive a confirmation email containing information about joining the webinar – be sure to check your Junk Mail and Spam folders for your registration! \nWe’ll see you there!!
URL:https://www.repsonline.org/event/reps-presents-an-evening-with-bob-mills/
LOCATION:Online Via Zoom
CATEGORIES:Zoom: Performance
END:VEVENT
BEGIN:VEVENT
DTSTART;TZID=America/Los_Angeles:20201118T190000
DTEND;TZID=America/Los_Angeles:20201118T200000
DTSTAMP:20260423T153235
CREATED:20201113T010847Z
LAST-MODIFIED:20201113T090524Z
UID:7153-1605726000-1605729600@www.repsonline.org
SUMMARY:My Friend Irma
DESCRIPTION:My Friend Irma\n“Thanksgiving Turkey” originally aired\, November 15\, 1948 \nLIVE via Zoom on November 18\, 2020!! \n7:00 PM PST \nThanksgiving is approaching and Jane decides to plan a dinner for four. Irma wants to help out and ends up buying a “live” Turkey and names it “George”. \nJoin us for some fun!! \nWhen: Nov 18\, 2020 07:00 PM Pacific Time (US and Canada)\nTopic: REPS Presents – My Friend Irma – Thanksgiving Show! \nPlease click the link below to join the webinar:\nhttps://us02web.zoom.us/j/81879508555?pwd=TDBXRWdsdFF1bXNXc1pFamZIbjhUUT09 \nPasscode: 062387 \nOr Telephone:\nDial(for higher quality\, dial a number based on your current location):\nUS: +1 253 215 8782 or +1 669 900 9128 or +1 346 248 7799 or +1 646 558 8656 or +1 301 715 8592 or +1 312 626 6799 \nWebinar ID: 818 7950 8555\nPasscode: 062387 \nREPS CAST \nDavid Persson:  Announcer\nMonica Chilton:  Mrs. O’ Reilly\nDean T. Moody: Al\, Professor Kropotkin\nZippy McB:  Nancy (Pepsodent girl)\nDavid Rollins: 2nd announcer\nJeanine Ollivier:  Jane\nJenn Ollivier: Irma\, Turkey\nIra McCully:  Sound engineer \nDirected by Jeanine Ollivier \n 
URL:https://www.repsonline.org/event/my-friend-irma/
LOCATION:Online Via Zoom
CATEGORIES:Zoom: Performance
ATTACH;FMTTYPE=image/png:https://www.repsonline.org/wp-content/uploads/2020/11/November-18_My-Friend-Irma.png
END:VEVENT
BEGIN:VEVENT
DTSTART;TZID=America/Los_Angeles:20201028T190000
DTEND;TZID=America/Los_Angeles:20201028T200000
DTSTAMP:20260423T153235
CREATED:20201024T022827Z
LAST-MODIFIED:20201024T062539Z
UID:6972-1603911600-1603915200@www.repsonline.org
SUMMARY:The Haunting of Covid House
DESCRIPTION:  \nThis thrilling radio play will be presented live via Zoom on Wed. 10/28 at 7:00 PM Pacific Time. Admission is free\, but you must register in advance. \nRadio Enthusiasts of Puget Sound presents a live\, spooky audio drama starring David Ossman of Firesign Theatre along with Lindsey Dabek and Dean T. Moody! Plus\, macabre music from Jenn Ollivier and Ira McCully! \nNote: This story takes place during the current pandemic. If you don’t feel that  you’ll enjoy this program\, feel free to pass on it — and stay tuned for more REPS entertainment in the near future! \nThis event is free\, however\, you must pre-register.\nhttps://us02web.zoom.us/webinar/register/WN_CFHk7GjCRgebDyf3JYGOsQ \n  \n  \n 
URL:https://www.repsonline.org/event/zoom-performance-the-haunting-of-covid-house/
LOCATION:Online Via Zoom
CATEGORIES:Zoom: Performance
ATTACH;FMTTYPE=image/png:https://www.repsonline.org/wp-content/uploads/2020/10/Haunting-of-Covid-starring-David-Ossman.png
END:VEVENT
END:VCALENDAR