BEGIN:VCALENDAR
VERSION:2.0
PRODID:-//Radio Enthusiasts of Puget Sound - ECPv6.15.13//NONSGML v1.0//EN
CALSCALE:GREGORIAN
METHOD:PUBLISH
X-WR-CALNAME:Radio Enthusiasts of Puget Sound
X-ORIGINAL-URL:https://www.repsonline.org
X-WR-CALDESC:Events for Radio Enthusiasts of Puget Sound
REFRESH-INTERVAL;VALUE=DURATION:PT1H
X-Robots-Tag:noindex
X-PUBLISHED-TTL:PT1H
BEGIN:VTIMEZONE
TZID:America/Los_Angeles
BEGIN:DAYLIGHT
TZOFFSETFROM:-0800
TZOFFSETTO:-0700
TZNAME:PDT
DTSTART:20230312T100000
END:DAYLIGHT
BEGIN:STANDARD
TZOFFSETFROM:-0700
TZOFFSETTO:-0800
TZNAME:PST
DTSTART:20231105T090000
END:STANDARD
BEGIN:DAYLIGHT
TZOFFSETFROM:-0800
TZOFFSETTO:-0700
TZNAME:PDT
DTSTART:20240310T100000
END:DAYLIGHT
BEGIN:STANDARD
TZOFFSETFROM:-0700
TZOFFSETTO:-0800
TZNAME:PST
DTSTART:20241103T090000
END:STANDARD
BEGIN:DAYLIGHT
TZOFFSETFROM:-0800
TZOFFSETTO:-0700
TZNAME:PDT
DTSTART:20250309T100000
END:DAYLIGHT
BEGIN:STANDARD
TZOFFSETFROM:-0700
TZOFFSETTO:-0800
TZNAME:PST
DTSTART:20251102T090000
END:STANDARD
END:VTIMEZONE
BEGIN:VEVENT
DTSTART;TZID=America/Los_Angeles:20241206T000000
DTEND;TZID=America/Los_Angeles:20241207T235959
DTSTAMP:20260424T053223
CREATED:20241018T081556Z
LAST-MODIFIED:20241203T085506Z
UID:9152-1733443200-1733615999@www.repsonline.org
SUMMARY:REPS Presents: A Christmas Show for 2024!
DESCRIPTION:REPS Presents: A Christmas Show – 2024!! \nDecember 6th and 7th \nShows at 4 PM PST and  7 PM PST \nAt Hotel 116 in Bellevue\, Washington \n  \nFREE WITH RSVP!! \nPresented LIVE with plans to stream via Zoom (details BELOW!) \n  \n \nSpecial Guest Stars: \nIvan Cury\, Ron Cocking and Bill Ratner \n  \nWith the talents of: \nLarry Albert\, Ryan Asbert\, Monica Chilton\, Darl Clawson\, Lindsey Dabek\,  Larry Gassman\, Bryan Hendrickson\, Jeanine Ollivier\, Jenn Ollivier\, David Persson\, Sharon Richards-Chriest and Dave Selvig \nDirected by Dave Selvig and Jeanine Ollivier \nProduced by Walden Hughes \nSound Engineering by Jim Dolan \nAV/Tech Support by Ryan Asbert and Spencer Christinziana \nLIVE SFX by Bruce Johnson and Alice Lane Watson \nLIVE Music by Randy and Christine McMillan \n  \nWe are excited to share that these shows are FREE thanks to generous support from grants and donors – thank you to all who have supported! \nSpecial thanks to Walden Hughes and to 4 Culture for helping REPS provide free public programming! \nAll events are listed seperately for your RSVPs – PLEASE RSVP FOR EACH SHOW YOU PLAN TO ATTEND \n  \nFriday 12-6-24 \n4 PM Suspense \n4-45 PM Radio Reader Digest \nWhen: Dec 6\, 2024 04:00 PM Pacific Time (US and Canada)\nTopic: REPS Christmas 2024: Friday Day – Suspense and Radio Readers LIVE!! \nPlease click the link below to join the webinar:\nhttps://us02web.zoom.us/j/86709406563?pwd=cSV4nG9t8Pk8KfdXUPFNmg1VTqzktw.1\nPasscode: 372683 \n  \nFriday 12-6-24 \n7 PM Duffy Tavern \n7-45 PM Roger of the Gazette \nWhen: Dec 6\, 2024 07:00 PM Pacific Time (US and Canada)\nTopic: REPS Christmas 2024: Friday Evening – Duffy’s Tavern and Roger’s of the Gazette LIVE!! \nPlease click the link below to join the webinar:\nhttps://us02web.zoom.us/j/82811603565?pwd=uxxwXsbOiskdSlkAB5ZpdiuVTSzPdQ.1\nPasscode: 447829 \n  \nSaturday 12-7-24 \n4 PM  The Whistler \n4-45 PM Grand Central Station \nWhen: Dec 7\, 2024 04:00 PM Pacific Time (US and Canada)\nTopic: REPS Christmas 2024: Saturday Day – The Whistler and Grand Central Station LIVE!! \nPlease click the link below to join the webinar:\nhttps://us02web.zoom.us/j/83852399993?pwd=cW40CckyGqlAJgdaP8TYtvCZad6hek.1\nPasscode: 815660 \n  \nSaturday 12-7-24 \n7 PM Radio City Playhouse \n7-45 PM First Nighter \nWhen: Dec 7\, 2024 07:00 PM Pacific Time (US and Canada)\nTopic: REPS Christmas 2024: Saturday Evening – Radio City and First Nighter LIVE!! \nPlease click the link below to join the webinar:\nhttps://us02web.zoom.us/j/87066503975?pwd=iyHdRzKTAFqT3oC8Tfaa19ZG6abWE9.1\nPasscode: 061100 \n  \nREPS ELECTION NOTE: \nPlease note our REPS Officer Elections Ballot Box will also be collecting your votes at Hotel 116 throughout the show dates of December 6 and 7!  Come vote and see the show for FREE – we hope to see you there! \n  \nQuestions?  Please email: repseventmanagement@gmail.com \n 
URL:https://www.repsonline.org/event/reps-presents-a-christmas-show-for-2024/
LOCATION:Hotel 116\, 625 116th Avenue Northeast\,\, Bellevue\, WA\, 98004\, United States
CATEGORIES:REPS Presents LIVE,Zoom: Performance
ATTACH;FMTTYPE=image/jpeg:https://www.repsonline.org/wp-content/uploads/2024/10/reps-holiday-show-2024.jpg
END:VEVENT
END:VCALENDAR