BEGIN:VCALENDAR
VERSION:2.0
PRODID:-//Radio Enthusiasts of Puget Sound - ECPv6.15.13//NONSGML v1.0//EN
CALSCALE:GREGORIAN
METHOD:PUBLISH
X-WR-CALNAME:Radio Enthusiasts of Puget Sound
X-ORIGINAL-URL:https://www.repsonline.org
X-WR-CALDESC:Events for Radio Enthusiasts of Puget Sound
REFRESH-INTERVAL;VALUE=DURATION:PT1H
X-Robots-Tag:noindex
X-PUBLISHED-TTL:PT1H
BEGIN:VTIMEZONE
TZID:America/Los_Angeles
BEGIN:DAYLIGHT
TZOFFSETFROM:-0800
TZOFFSETTO:-0700
TZNAME:PDT
DTSTART:20220313T100000
END:DAYLIGHT
BEGIN:STANDARD
TZOFFSETFROM:-0700
TZOFFSETTO:-0800
TZNAME:PST
DTSTART:20221106T090000
END:STANDARD
BEGIN:DAYLIGHT
TZOFFSETFROM:-0800
TZOFFSETTO:-0700
TZNAME:PDT
DTSTART:20230312T100000
END:DAYLIGHT
BEGIN:STANDARD
TZOFFSETFROM:-0700
TZOFFSETTO:-0800
TZNAME:PST
DTSTART:20231105T090000
END:STANDARD
BEGIN:DAYLIGHT
TZOFFSETFROM:-0800
TZOFFSETTO:-0700
TZNAME:PDT
DTSTART:20240310T100000
END:DAYLIGHT
BEGIN:STANDARD
TZOFFSETFROM:-0700
TZOFFSETTO:-0800
TZNAME:PST
DTSTART:20241103T090000
END:STANDARD
END:VTIMEZONE
BEGIN:VEVENT
DTSTART;TZID=America/Los_Angeles:20230419T190000
DTEND;TZID=America/Los_Angeles:20230419T203000
DTSTAMP:20260425T060621
CREATED:20230309T091354Z
LAST-MODIFIED:20230417T053045Z
UID:8169-1681930800-1681936200@www.repsonline.org
SUMMARY:REPS Presents: Dr. Lona Bailey - Untold Hollywood Stories
DESCRIPTION:Join us for our April REPS program: \n \nREPS Presents: Dr. Lona Bailey – Untold Hollywood Stories – Life and Times of Virginia Gregg \nLIVE VIA ZOOM – LINK BELOW! \nWednesday\, April 19th  \n7:00 PM PST \nJoin us as we hear Dr. Lona Bailey discuss her research and her passion to share the untold stories of women such as Virginia Gregg.  This is a great chance to hear an expert share about these special secrets and stories of Hollywood’s Golden Age and acknowledge the lives of women in entertainment. \nDr. Lona Bailey is a Golden Age of Hollywood researcher and writer of Uncredited: The Life and Career of Actress Virginia Gregg (available for purchase) and Voice of Villainy: The Betty Lou Gerson Story. As a PhD and former therapist\, Lona is passionate about telling the untold stories of women who perhaps weren’t finished using their own voices during their earthly journeys. Lona offers a balanced perspective on the multidimensional elements involved in legacy-maintenance with particular interest in the preservation efforts of the Golden Age of Hollywood. Lona’s biographic works are delicately researched and written with a candid and fair pen and plenty of room for levity. Old Hollywood holds millions of secrets in its gothic sensationalism; with its dark secrets\, come just as many shimmering triumphs– and Old Hollywood wouldn’t be as we know it without both. Lona has been featured in Market Watch\, Digital Journal\, and Good News Magazine. \nProgram hosted by Walden Hughes \nZoom hosting by Lindsey Dabek \nWhen: Apr 19\, 2023 07:00 PM Pacific Time (US and Canada)\nTopic: REPS Presents – Dr. Lona Bailey – Untold Hollywood Stories \nPlease click the link below to join the webinar:\nhttps://us02web.zoom.us/j/86557057093?pwd=YzF3K1ZLK1BQcjErd1VaaWZUNFNLZz09\nPasscode: 490924 \nOr One tap mobile :\n+12532158782\,\,86557057093#\,\,\,\,*490924# US (Tacoma)\n+12532050468\,\,86557057093#\,\,\,\,*490924# US\nOr Telephone:\nDial(for higher quality\, dial a number based on your current location):\n+1 253 215 8782 US (Tacoma)\n+1 253 205 0468 US\n+1 719 359 4580 US\n+1 346 248 7799 US (Houston)\n+1 669 444 9171 US\n+1 669 900 9128 US (San Jose)\n+1 689 278 1000 US\n+1 301 715 8592 US (Washington DC)\n+1 305 224 1968 US\n+1 309 205 3325 US\n+1 312 626 6799 US (Chicago)\n+1 360 209 5623 US\n+1 386 347 5053 US\n+1 507 473 4847 US\n+1 564 217 2000 US\n+1 646 558 8656 US (New York)\n+1 646 931 3860 US \nWebinar ID: 865 5705 7093\nPasscode: 490924\nInternational numbers available: https://us02web.zoom.us/u/kcXDyQBhkx \n  \n 
URL:https://www.repsonline.org/event/reps-presents-dr-lona-bailey-untold-hollywood-stories/
LOCATION:Online Via Zoom
CATEGORIES:Zoom: Performance
END:VEVENT
END:VCALENDAR