BEGIN:VCALENDAR
VERSION:2.0
PRODID:-//Radio Enthusiasts of Puget Sound - ECPv6.15.13//NONSGML v1.0//EN
CALSCALE:GREGORIAN
METHOD:PUBLISH
X-ORIGINAL-URL:https://www.repsonline.org
X-WR-CALDESC:Events for Radio Enthusiasts of Puget Sound
REFRESH-INTERVAL;VALUE=DURATION:PT1H
X-Robots-Tag:noindex
X-PUBLISHED-TTL:PT1H
BEGIN:VTIMEZONE
TZID:America/Los_Angeles
BEGIN:DAYLIGHT
TZOFFSETFROM:-0800
TZOFFSETTO:-0700
TZNAME:PDT
DTSTART:20220313T100000
END:DAYLIGHT
BEGIN:STANDARD
TZOFFSETFROM:-0700
TZOFFSETTO:-0800
TZNAME:PST
DTSTART:20221106T090000
END:STANDARD
BEGIN:DAYLIGHT
TZOFFSETFROM:-0800
TZOFFSETTO:-0700
TZNAME:PDT
DTSTART:20230312T100000
END:DAYLIGHT
BEGIN:STANDARD
TZOFFSETFROM:-0700
TZOFFSETTO:-0800
TZNAME:PST
DTSTART:20231105T090000
END:STANDARD
BEGIN:DAYLIGHT
TZOFFSETFROM:-0800
TZOFFSETTO:-0700
TZNAME:PDT
DTSTART:20240310T100000
END:DAYLIGHT
BEGIN:STANDARD
TZOFFSETFROM:-0700
TZOFFSETTO:-0800
TZNAME:PST
DTSTART:20241103T090000
END:STANDARD
END:VTIMEZONE
BEGIN:VEVENT
DTSTART;TZID=America/Los_Angeles:20230222T190000
DTEND;TZID=America/Los_Angeles:20230222T203000
DTSTAMP:20260425T085941
CREATED:20230217T082050Z
LAST-MODIFIED:20230217T082152Z
UID:8151-1677092400-1677097800@www.repsonline.org
SUMMARY:REPS Presents: Truth or Consequences - A Presentation by Martin Grams
DESCRIPTION:REPS Presents: TRUTH OR CONSEQUENCES with Martin Grams!! \nWednesday\, February 22nd\n7:00 PM PST\nLIVE via ZOOM – LINK BELOW!! \nWhen Truth or Consequences first premiered on radio in 1941\, no one could have predicted what the program would have accomplished. By 1945 the radio audience was invited to participate in write-in contests to identify mystery celebrities and donations that accompanied the write-ins helped establish numerous charities including the formation of the American Heart Association. \nIn 1950\, the radio program helped convince the town of Hot Springs\, New Mexico\, to change their name to Truth or Consequences\, New Mexico. The program would launch Bob Barker’s career and ultimately establish the Jimmy Fund. This 40 minutes slideshow presentation will document the entire history\, using archival photos from various archives across the country\, some that have never been published before. \nMartin Grams\, Jr. is an American pop culture historian who has written extensively on radio\, television and films. Under the guidelines of his profession Grams provided audio commentary for commercial releases of DVDs and Blu-ray Discs\, written hundreds of magazine articles for scholarly journals\, provided commentary for filmed documentaries and delivers lectures at various institutions including ARSC\, SPERDVAC\, REPS and the Library of Congress. Check out his website for a catalog of his books\, including news of his latest projects. \nJOIN US for another awesome presentation by Martin Grams\, check out his book on this topic HERE!! \nWhen: Feb 22\, 2023 07:00 PM Pacific Time (US and Canada)\nTopic: REPS Presents: Truth or Consequences with Martin Grams \nPlease click the link below to join the webinar:\nhttps://us02web.zoom.us/j/82434163596?pwd=YlZMOFE2TENNait1d0ZhVnlpQVVUQT09\nPasscode: 111948 \nOr One tap mobile :\nUS: +12532050468\,\,82434163596#\,\,\,\,*111948# or +12532158782\,\,82434163596#\,\,\,\,*111948#\nOr Telephone:\nDial(for higher quality\, dial a number based on your current location):\nUS: +1 253 205 0468 or +1 253 215 8782 or +1 346 248 7799 or +1 669 444 9171 or +1 669 900 9128 or +1 719 359 4580 or +1 564 217 2000 or +1 646 558 8656 or +1 646 931 3860 or +1 689 278 1000 or +1 301 715 8592 or +1 305 224 1968 or +1 309 205 3325 or +1 312 626 6799 or +1 360 209 5623 or +1 386 347 5053 or +1 507 473 4847 \nWebinar ID: 824 3416 3596\nPasscode: 111948 \n 
URL:https://www.repsonline.org/event/reps-presents-truth-or-consequences-a-presentation-by-martin-grams/
LOCATION:Online Via Zoom
CATEGORIES:Zoom: Performance
ATTACH;FMTTYPE=image/jpeg:https://www.repsonline.org/wp-content/uploads/2023/02/TorC-c.jpg
END:VEVENT
END:VCALENDAR