BEGIN:VCALENDAR
VERSION:2.0
PRODID:-//Radio Enthusiasts of Puget Sound - ECPv6.15.13//NONSGML v1.0//EN
CALSCALE:GREGORIAN
METHOD:PUBLISH
X-ORIGINAL-URL:https://www.repsonline.org
X-WR-CALDESC:Events for Radio Enthusiasts of Puget Sound
REFRESH-INTERVAL;VALUE=DURATION:PT1H
X-Robots-Tag:noindex
X-PUBLISHED-TTL:PT1H
BEGIN:VTIMEZONE
TZID:America/Los_Angeles
BEGIN:DAYLIGHT
TZOFFSETFROM:-0800
TZOFFSETTO:-0700
TZNAME:PDT
DTSTART:20220313T100000
END:DAYLIGHT
BEGIN:STANDARD
TZOFFSETFROM:-0700
TZOFFSETTO:-0800
TZNAME:PST
DTSTART:20221106T090000
END:STANDARD
BEGIN:DAYLIGHT
TZOFFSETFROM:-0800
TZOFFSETTO:-0700
TZNAME:PDT
DTSTART:20230312T100000
END:DAYLIGHT
BEGIN:STANDARD
TZOFFSETFROM:-0700
TZOFFSETTO:-0800
TZNAME:PST
DTSTART:20231105T090000
END:STANDARD
BEGIN:DAYLIGHT
TZOFFSETFROM:-0800
TZOFFSETTO:-0700
TZNAME:PDT
DTSTART:20240310T100000
END:DAYLIGHT
BEGIN:STANDARD
TZOFFSETFROM:-0700
TZOFFSETTO:-0800
TZNAME:PST
DTSTART:20241103T090000
END:STANDARD
END:VTIMEZONE
BEGIN:VEVENT
DTSTART;TZID=America/Los_Angeles:20230118T190000
DTEND;TZID=America/Los_Angeles:20230118T203000
DTSTAMP:20260425T100531
CREATED:20230111T080626Z
LAST-MODIFIED:20230117T073112Z
UID:8130-1674068400-1674073800@www.repsonline.org
SUMMARY:REPS Presents: The Old Time Radio Quiz Show 2023 - Hosted by Larry Albert!!
DESCRIPTION:Join us as we welcome the New Year with some trivia fun – watch our radio experts face off and test your own knowledge with questions for you\, the audience\, in this fun interactive quiz show!! \n \nWednesday\, January 18th \nLIVE via Zoom – Scroll down for link! \n7:00 PM PST \n  \nHosted by Larry Albert\, with special guests (click names for details!): \nBrad Zinn  \nCraig Wichman \nKeith Scott \nKim Bragg \nMichael Hingson \nRandy Clawson \nand YOU!! \n  \nWith all new questions by Walden Hughes\, Johnny Holmes\, plus John and Larry Gassman! \nSFX provided by Johnny Holmes \nWhen: Jan 18\, 2023 07:00 PM Pacific Time (US and Canada)\nTopic: REPS Presents – The Old Time Radio Quiz Show! \nPlease click the link below to join the webinar:\nhttps://us02web.zoom.us/j/82936088089?pwd=ZS95Z3RKNEp3a3FQSDNFTFFBS0dKUT09\nPasscode: 111948 \nOr One tap mobile :\nUS: +12532158782\,\,82936088089#\,\,\,\,*111948# or +12532050468\,\,82936088089#\,\,\,\,*111948# \nOr Telephone:\nDial(for higher quality\, dial a number based on your current location):\nUS: +1 253 215 8782 or +1 253 205 0468 or +1 719 359 4580 or +1 346 248 7799 or +1 669 444 9171 or +1 669 900 9128 or +1 312 626 6799 or +1 360 209 5623 or +1 386 347 5053 or +1 507 473 4847 or +1 564 217 2000 or +1 646 558 8656 or +1 646 931 3860 or +1 689 278 1000 or +1 301 715 8592 or +1 305 224 1968 or +1 309 205 3325 \nWebinar ID: 829 3608 8089\nPasscode: 111948 \n  \n 
URL:https://www.repsonline.org/event/reps-presents-the-old-time-radio-quiz-show-2023-hosted-by-larry-albert/
LOCATION:Online Via Zoom
CATEGORIES:Zoom: Performance
ATTACH;FMTTYPE=image/jpeg:https://www.repsonline.org/wp-content/uploads/2023/01/Quiz-Show-Jan-2023.jpg
END:VEVENT
END:VCALENDAR