BEGIN:VCALENDAR
VERSION:2.0
PRODID:-//Radio Enthusiasts of Puget Sound - ECPv6.15.13//NONSGML v1.0//EN
CALSCALE:GREGORIAN
METHOD:PUBLISH
X-WR-CALNAME:Radio Enthusiasts of Puget Sound
X-ORIGINAL-URL:https://www.repsonline.org
X-WR-CALDESC:Events for Radio Enthusiasts of Puget Sound
REFRESH-INTERVAL;VALUE=DURATION:PT1H
X-Robots-Tag:noindex
X-PUBLISHED-TTL:PT1H
BEGIN:VTIMEZONE
TZID:America/Los_Angeles
BEGIN:DAYLIGHT
TZOFFSETFROM:-0800
TZOFFSETTO:-0700
TZNAME:PDT
DTSTART:20220313T100000
END:DAYLIGHT
BEGIN:STANDARD
TZOFFSETFROM:-0700
TZOFFSETTO:-0800
TZNAME:PST
DTSTART:20221106T090000
END:STANDARD
BEGIN:DAYLIGHT
TZOFFSETFROM:-0800
TZOFFSETTO:-0700
TZNAME:PDT
DTSTART:20230312T100000
END:DAYLIGHT
BEGIN:STANDARD
TZOFFSETFROM:-0700
TZOFFSETTO:-0800
TZNAME:PST
DTSTART:20231105T090000
END:STANDARD
BEGIN:DAYLIGHT
TZOFFSETFROM:-0800
TZOFFSETTO:-0700
TZNAME:PDT
DTSTART:20240310T100000
END:DAYLIGHT
BEGIN:STANDARD
TZOFFSETFROM:-0700
TZOFFSETTO:-0800
TZNAME:PST
DTSTART:20241103T090000
END:STANDARD
END:VTIMEZONE
BEGIN:VEVENT
DTSTART;TZID=America/Los_Angeles:20230909T140000
DTEND;TZID=America/Los_Angeles:20230909T160000
DTSTAMP:20260425T075621
CREATED:20230825T064026Z
LAST-MODIFIED:20230907T063414Z
UID:8375-1694268000-1694275200@www.repsonline.org
SUMMARY:Two-Part Program - LIVE & ZOOM!  An Interview with Margaret O'Brien LIVE via Zoom!  Plus\, The Bickersons and Vic & Sade at Norse Home!
DESCRIPTION:Join us for a special interview with Margaret O’Brien LIVE via Zoom! \nOn Saturday\, September 9th we have a SPECIAL TWO PART PROGRAM!! \n  \nStarting at 2 PM PST: \nTwo well-known local actors who are also REPS Players bring you LIVE readings from the Norse Home in Seattle\, WA: \nReading/Recreation:  An episode of The Bickersons – David Persson and Monica Chilton \nReading/Recreation:  An episode of Vic & Sade – David Persson and Monica Chilton \nIf you are local\, come join for this!  Light snacks/refreshments will be provided.  Please RSVP if you might attend in person – thank you! \n  \nStarting at 3:15 PM PST: \nLIVE INTERVIEW via Zoom with Margaret O’Brien! \nJoin Shaun Clancy of REPS and the fabulous Margaret O’Brien in this live interview that will be watchable by joining the Zoom Webinar listed below! \nThis Zoom hosting will be provided by Ryan Asbert\, with Shaun\, Ryan and Jim LIVE at Norse Home\, too! \nHead to Norse Home and see the recreations PLUS the interview after – OR join from home via this Webinar Link: \nWhen: Sep 9\, 2023 02:00 PM Pacific Time (US and Canada)\nTopic: REPS Two-Part Program: An Interview Wtih Margaret O’Brien PLUS Two LIVE Readings at Norse Home! \nPlease click the link below to join the webinar:\nhttps://us02web.zoom.us/j/83226455376?pwd=Yy84S0dSNFBLdFA5b3RVMlZIcld6dz09\nPasscode: 661995 \nOr One tap mobile :\n+12532050468\,\,83226455376#\,\,\,\,*661995# US\n+12532158782\,\,83226455376#\,\,\,\,*661995# US (Tacoma)\nOr Telephone:\nDial(for higher quality\, dial a number based on your current location):\n+1 253 205 0468 US\n+1 253 215 8782 US (Tacoma)\n+1 346 248 7799 US (Houston)\n+1 669 444 9171 US\n+1 669 900 9128 US (San Jose)\n+1 719 359 4580 US\n+1 309 205 3325 US\n+1 312 626 6799 US (Chicago)\n+1 360 209 5623 US\n+1 386 347 5053 US\n+1 507 473 4847 US\n+1 564 217 2000 US\n+1 646 558 8656 US (New York)\n+1 646 931 3860 US\n+1 689 278 1000 US\n+1 301 715 8592 US (Washington DC)\n+1 305 224 1968 US \nWebinar ID: 832 2645 5376\nPasscode: 661995 \n  \nREPS Readers and REPS Local! \nREPS has been considering re-engaging the local group formerly known as the REPS Readers with the goal to meet once quarterly throughout the year.  We are also working to bring back LIVE and IN PERSON meetings! \nThe REPS Readers events are to enjoy live reads\, participate when programs offer\, hear presentations and special guest speakers when applicable and most of all to gather with others who enjoy Old Time Radio and visit like we used to! \nThis first REPS Meeting at Norse Home will be an effort to re-start local programming\, for anyone who would like to help lead local programs and would like to help re-start REPS Readers\, please contact REPSboard@yahoo.com to start a conversation about who would help bring back the REPS Readers and who still wants to participate. \nThank you for joining us! \n 
URL:https://www.repsonline.org/event/reps-readers-returning-to-norse-home-the-bickersons-and-vic-sade/
LOCATION:Norse Home in Seattle\, WA\, 5311 Phinney Ave N\, Seattle\, WA\, 98103\, United States
CATEGORIES:REPS Readers Event
END:VEVENT
END:VCALENDAR