BEGIN:VCALENDAR
VERSION:2.0
PRODID:-//Radio Enthusiasts of Puget Sound - ECPv6.15.13//NONSGML v1.0//EN
CALSCALE:GREGORIAN
METHOD:PUBLISH
X-WR-CALNAME:Radio Enthusiasts of Puget Sound
X-ORIGINAL-URL:https://www.repsonline.org
X-WR-CALDESC:Events for Radio Enthusiasts of Puget Sound
REFRESH-INTERVAL;VALUE=DURATION:PT1H
X-Robots-Tag:noindex
X-PUBLISHED-TTL:PT1H
BEGIN:VTIMEZONE
TZID:America/Los_Angeles
BEGIN:DAYLIGHT
TZOFFSETFROM:-0800
TZOFFSETTO:-0700
TZNAME:PDT
DTSTART:20250309T100000
END:DAYLIGHT
BEGIN:STANDARD
TZOFFSETFROM:-0700
TZOFFSETTO:-0800
TZNAME:PST
DTSTART:20251102T090000
END:STANDARD
BEGIN:DAYLIGHT
TZOFFSETFROM:-0800
TZOFFSETTO:-0700
TZNAME:PDT
DTSTART:20260308T100000
END:DAYLIGHT
BEGIN:STANDARD
TZOFFSETFROM:-0700
TZOFFSETTO:-0800
TZNAME:PST
DTSTART:20261101T090000
END:STANDARD
BEGIN:DAYLIGHT
TZOFFSETFROM:-0800
TZOFFSETTO:-0700
TZNAME:PDT
DTSTART:20270314T100000
END:DAYLIGHT
BEGIN:STANDARD
TZOFFSETFROM:-0700
TZOFFSETTO:-0800
TZNAME:PST
DTSTART:20271107T090000
END:STANDARD
END:VTIMEZONE
BEGIN:VEVENT
DTSTART;TZID=America/Los_Angeles:20260218T193000
DTEND;TZID=America/Los_Angeles:20260218T213000
DTSTAMP:20260423T135741
CREATED:20260202T041704Z
LAST-MODIFIED:20260212T070152Z
UID:10017-1771443000-1771450200@www.repsonline.org
SUMMARY:REPS Presents: The Old Time Radio Quiz Show 2026!
DESCRIPTION:Join us for our annual Old Time Radio Quiz Show!! \n \nTest your knowledge of radio programs\, radio stars and entertainment history! \nWith your host Larry Albert and a fantastic group of contestants\, including: \nKeith Scott\, Bill Owen\, Craig Wichman\, Bill Johnson\, Mike Hingson\, Robert Garison\,  Dave Selvig\,  Jeanine Ollivier\, Randy Clawson\, and Sharon Richards-Chriest \nPLUS chances for audience participation and more! \nWith NEW questions\, too!  And prizes! \nOur support team will include Walden Hughes\, Lindsey Dabek\, Johnny Holmes\, John and Larry Gassman. \nWe offer this virtual event LIVE via Zoom\, so tune in to win – LINK BELOW! \nWhen: Feb 18\, 2026 07:30 PM Pacific Time (US and Canada)\nTopic: REPS Presents – The Old Time Radio Quiz Show 2026! \nJoin from PC\, Mac\, iPad\, or Android:\nhttps://us02web.zoom.us/j/89340889626?pwd=k7rfbRu1HOshaMJB6nqArPrMkHjAWK.1\nPasscode:879438 \nPhone one-tap:\n+12532050468\,\,89340889626#\,\,\,\,*879438# US\n+12532158782\,\,89340889626#\,\,\,\,*879438# US (Tacoma) \nJoin via audio:\n+1 253 205 0468 US\n+1 253 215 8782 US (Tacoma)\n+1 669 900 9128 US (San Jose)\n+1 719 359 4580 US\n+1 346 248 7799 US (Houston)\n+1 669 444 9171 US\n+1 305 224 1968 US\n+1 309 205 3325 US\n+1 312 626 6799 US (Chicago)\n+1 360 209 5623 US\n+1 386 347 5053 US\n+1 507 473 4847 US\n+1 564 217 2000 US\n+1 646 558 8656 US (New York)\n+1 646 931 3860 US\n+1 689 278 1000 US\n+1 301 715 8592 US (Washington DC) \nWebinar ID: 893 4088 9626\nPasscode: 879438\nInternational numbers available: https://us02web.zoom.us/u/kr1OlNA7W \nCome have some fun with us – we hope to see you there!
URL:https://www.repsonline.org/event/reps-presents-the-old-time-radio-quiz-show-2026/
LOCATION:Online Via Zoom
CATEGORIES:REPS Presents LIVE,REPS Radio Event,Zoom: Performance
ATTACH;FMTTYPE=image/png:https://www.repsonline.org/wp-content/uploads/2026/02/OTR-QS-Flyer-2026.png
END:VEVENT
END:VCALENDAR