BEGIN:VCALENDAR
VERSION:2.0
PRODID:-//Radio Enthusiasts of Puget Sound - ECPv6.15.13//NONSGML v1.0//EN
CALSCALE:GREGORIAN
METHOD:PUBLISH
X-WR-CALNAME:Radio Enthusiasts of Puget Sound
X-ORIGINAL-URL:https://www.repsonline.org
X-WR-CALDESC:Events for Radio Enthusiasts of Puget Sound
REFRESH-INTERVAL;VALUE=DURATION:PT1H
X-Robots-Tag:noindex
X-PUBLISHED-TTL:PT1H
BEGIN:VTIMEZONE
TZID:America/Los_Angeles
BEGIN:DAYLIGHT
TZOFFSETFROM:-0800
TZOFFSETTO:-0700
TZNAME:PDT
DTSTART:20240310T100000
END:DAYLIGHT
BEGIN:STANDARD
TZOFFSETFROM:-0700
TZOFFSETTO:-0800
TZNAME:PST
DTSTART:20241103T090000
END:STANDARD
BEGIN:DAYLIGHT
TZOFFSETFROM:-0800
TZOFFSETTO:-0700
TZNAME:PDT
DTSTART:20250309T100000
END:DAYLIGHT
BEGIN:STANDARD
TZOFFSETFROM:-0700
TZOFFSETTO:-0800
TZNAME:PST
DTSTART:20251102T090000
END:STANDARD
BEGIN:DAYLIGHT
TZOFFSETFROM:-0800
TZOFFSETTO:-0700
TZNAME:PDT
DTSTART:20260308T100000
END:DAYLIGHT
BEGIN:STANDARD
TZOFFSETFROM:-0700
TZOFFSETTO:-0800
TZNAME:PST
DTSTART:20261101T090000
END:STANDARD
END:VTIMEZONE
BEGIN:VEVENT
DTSTART;TZID=America/Los_Angeles:20250918T000000
DTEND;TZID=America/Los_Angeles:20250921T235959
DTSTAMP:20260423T225145
CREATED:20250903T073512Z
LAST-MODIFIED:20250914T201947Z
UID:9719-1758153600-1758499199@www.repsonline.org
SUMMARY:REPS SHOWCASE 2025 - FULL SCHEDULE WITH ZOOM LINKS!
DESCRIPTION:What is REPS Showcase? \nThe REPS Showcase is a special event that allows us to recreate and document the history and stories of audio theater while also providing an opportunity for fans to meet\, in person\, the personalities who appeared on some of our favorite radio shows.  REPS invites actors known for radio\, voice acting and sometimes even cartoons to lend their talents to our LIVE recreations\, as well as interviews\, panels\, talks and social events.  \n  \nFREE WITH RSVP – VISIT 09/18-09/21 EVENT PAGES TO RSVP FOR IN-PERSON SHOWCASE! \nFULL SCHEDULE WITH ZOOM LINKS FOR REPS SHOWCASE 2025: \n  \nThursday 9-18-25 DAYTIME \n3 PM                            Great Gildersleeve LIVE recreation starring Bryan Hendrickson – Fir Room \nWhen: Sep 18\, 2025 03:00 PM Pacific Time (US and Canada) \nTopic:  REPS Showcase: Thursday Day – Great Gildersleeve LIVE!! \nJoin from PC\, Mac\, iPad\, or Android: \nhttps://us02web.zoom.us/j/86726858721?pwd=Hh1FrV7T20isbMDe81nNenXU3aD1GK.1 \nWebinar ID: 867 2685 8721 \nPasscode: 197855 \n  \nThursday 9-18-25 DAYTIME \n3:45 to 4:15 PM        Interview via Zoom LIVE with Peggy Adler\, author of a new Great Gildersleeve book – Fir Room \nWhen: Sep 13\, 2025 03:45 PM Pacific Time (US and Canada) \nTopic:  REPS Showcase: Thursday Day – Peggy Adler Interview LIVE!! \nJoin from PC\, Mac\, iPad\, or Android: \nhttps://us02web.zoom.us/j/87184542442?pwd=O7wkZPMYSaMzaRe6pMEnRAAGblYoob.1 \nWebinar ID: 871 8454 2442 \nPasscode: 494315 \n  \nThursday 9-18-25 DAYTIME \n4:30 PM          Soldiers in Grease Paint LIVE recreation starring Jenn Olivier\, Kirby Taylor\, Leah Carrell – Fir Room \n5:15 to 5:45 PM        Two Brighter Day recreations LIVE back to back starring Dave Selvig – Fir Room \nWhen: Sep 18\, 2025 04:30 PM Pacific Time (US and Canada) \nTopic:  REPS Showcase: Thursday Day – Soldiers in Grease Paint and Brighter Days LIVE!! \nJoin from PC\, Mac\, iPad\, or Android: \nhttps://us02web.zoom.us/j/83121332422?pwd=FPqiNXHoHpBKtCZciRE9XkHaqHInVD.1 \nWebinar ID: 831 2133 2422 \nPasscode: 117664 \n  \nThursday 9-18-25 EVENING \n7 PM            Mr. Keen: Tracer of Lost Persons recreation LIVE starring David Ossman\, Phil Proctor and Larry Albert – Pine Room \n7:45 PM      The Saint recreation LIVE starring David Ossman and Phil Proctor – Pine Room \nWhen: Sep 18\, 2025 07:00 PM Pacific Time (US and Canada) \nTopic:  REPS Showcase: Thursday Night – Mr. Keen and The Saint LIVE!! \nJoin from PC\, Mac\, iPad\, or Android: \nhttps://us02web.zoom.us/j/87966660445?pwd=dWPII3kHFVie4tBR1bUAnTfiXDrSpK.1 \nWebinar ID: 879 6666 0445 \nPasscode: 553154 \n  \nThursday 9-18-25 EVENING \n8:30 PM       Nero Wolfe recreation LIVE starring David Ossman\, Phil Proctor and Larry Albert – Pine Room \n9:00 PM      An Evening with David Ossman and Phil Proctor – Q&A with audience participation – Pine Room \nWhen: Sep 18\, 2025 08:00 PM Pacific Time (US and Canada) \nTopic:  REPS Showcase: Thursday Night – Nero Wolfe and An Evening with the Firesign Theater LIVE!! \nJoin from PC\, Mac\, iPad\, or Android: \nhttps://us02web.zoom.us/j/83623589158?pwd=YXT01RG29PU290UXYyC7DcDkYcoZ9p.1 \nWebinar ID: 836 2358 9158 \nPasscode: 099916 \n  \nFriday 9-19-25 DAYTIME \n9:15 AM               One Man’s Family recreation LIVE starring Bill Ratner – Fir Room \n10 to 10:45 AM     Larry Gassman interview with Gigi Perreau – Fir Room \n11 to 11:45 AM     Larry Gassman interview with Bill Owen and Chuck Daugherty – Fir Room \nWhen: Sep 19\, 2025 09:45 AM Pacific Time (US and Canada) \nTopic:  REPS Showcase: Friday Morning – One Man’s Family\, Interviews with Gigi Perrau\, Bill Owen and Chuck Daugherty LIVE!! \nJoin from PC\, Mac\, iPad\, or Android: \nhttps://us02web.zoom.us/j/82023758971?pwd=7LgSaH5Fd8LtamWlkfUlJ3eUQmXFHd.1 \nWebinar ID: 820 2375 8971 \nPasscode: 468681 \n  \nFriday 9-19-25 DAYTIME \n2 PM                      Sam Spade starring Ron Cocking and Linda Bearman – Fir Room \n2:45 to 3:45 PM     Shaun Clancy interview with Jon Provost – Fir Room \nWhen: Sep 19\, 2025 02:00 PM Pacific Time (US and Canada) \nTopic:  REPS Showcase: Friday Day – Sam Spade and interview with John Provost LIVE!! \nJoin from PC\, Mac\, iPad\, or Android: \nhttps://us02web.zoom.us/j/82489578723?pwd=76Jqsy7mg40W58bMbaet3GMP20bZ7c.1 \nWebinar ID: 824 8957 8723 \nPasscode: 307615 \n  \nFriday 9-19-25 DAYTIME \n4:15 PM               Bob Hope Report recreation LIVE starring Bill Johnson – Pine Room \nWhen: Sep 19\, 2025 04:15 PM Pacific Time (US and Canada) \nTopic:  REPS Showcase: Friday Day – Bob Hope Report LIVE!! \nJoin from PC\, Mac\, iPad\, or Android: \nhttps://us02web.zoom.us/j/85469409400?pwd=svYDFysH7XtPjayOLbTgULs8QOjrV2.1 \nWebinar ID: 854 6940 9400 \nPasscode: 608885 \n  \nFriday 9-19-25 EVENING \n7 PM              Couple Next Door recreation LIVE starring Beverly Washburn and Linda Bearman– Pine Room \n7:30 PM        Cavalcade of America: “Flight Nurse” recreation LIVE starring Margaret O’Brien\, Gigi Perreau and Tommy Cook – Pine Room \n8:15 PM        My Friend Irma recreation LIVE starring Beverly Washburn\, Linda Bearman\, Jon Provost – Pine Room \nWhen: Sep 19\, 2025 07:00 PM Pacific Time (US and Canada) \nTopic:  REPS Showcase: Friday Night – Couple Next Door\, Cavalcade of America\, My Friend Irma LIVE!! \nJoin from PC\, Mac\, iPad\, or Android: \nhttps://us02web.zoom.us/j/87170789693?pwd=roHeZynp1OagoYIa8WFbC3Bd4xIsIg.1 \nWebinar ID: 871 7078 9693 \nPasscode: 589892 \n  \nSaturday 9-20-25 DAYTIME \n9:15 AM          Dr. Christian recreation LIVE starring Bill Ratner  – Fir Room \n10 AM              1975 Radio Special LIVE from Treasure Island: Inside Story from John Jensen with Audio/Video highlights of Bing Crosby +18 radio stars in show produced by Jensen – Fir Room \n11:15 AM        Hall of Ivy recreation LIVE starring Larry Albert and Linda Bearman – Pine Room \nWhen: Sep 20\, 2025 09:00 AM Pacific Time (US and Canada) \nTopic:  REPS Showcase: Saturday Day – Dr. Christian\, John Jensen program and Halls of Ivy LIVE!! \nJoin from PC\, Mac\, iPad\, or Android: \nhttps://us02web.zoom.us/j/81369647458?pwd=HuZbVOUZ7Aa3aFoJA3BxXFzuGIofXW.1 \nWebinar ID: 813 6964 7458 \nPasscode: 665953 \n  \nSaturday 9-20-25 DAYTIME \n2:30 to 3:45 PM          Lux Radio Theater: The Bishop’s Wife recreation LIVE starring Bill Owen\, Ivan Cury and star studded cast! – Fir Room \n4 to 5 PM                    Margaret O’Brien interview with Roger Kim \nWhen: Sep 20\, 2025 02:30 PM Pacific Time (US and Canada) \nTopic:  REPS Showcase: Saturday Day – Lux Radio Theater and interview with Margaret O’Brien LIVE!! \nJoin from PC\, Mac\, iPad\, or Android: \nhttps://us02web.zoom.us/j/86523412871?pwd=OLF4bI9QBRbbbYeWPjA42aacJpWrKV.1 \nWebinar ID: 865 2341 2871 \nPasscode: 663603 \n  \nSaturday 9-20-25 EVENING \n7 PM  Couple Next Door: Looking at Christmas Cards LIVE starring Beverly Washburn and Linda Bearman– Pine Room \n7:30 PM   Who’s on First? with John and Larry Gassman – Pine Room \n8:00 PM  The Six Shooter  LIVE starring Margaret O’Brien\, Gigi Perreau\, Tommy Cook and Jon Provost – Pine Room \n8:45 PM        Yours Truly\, Johnny Dollar  LIVE starring Beverly Washburn\, Jon Provost\, Tommy Cook – Pine Room \nWhen: Sep 20\, 2025 07:00 PM Pacific Time (US and Canada) \nTopic:  REPS Showcase: Saturday Night – Couple Next Door\, Who’s on First\, Six Shooter\, Yours Truly Johnny Dollar LIVE!! \nJoin from PC\, Mac\, iPad\, or Android: \nhttps://us02web.zoom.us/j/87099679993?pwd=xEkbQUItpOzqdR3FRiFbFVoWnTC5A4.1 \nWebinar ID: 870 9967 9993 \nPasscode: 779764 \n  \nSunday 9-21-25 DAYTIME \n10 to 11:30 AM                John and Larry Gassman receive REPS Lifetime Achievement Award 2025 – Fir Room \nWhen: Sep 20\, 2025 10:00 AM Pacific Time (US and Canada) \nTopic:  REPS Showcase: Sunday Day – John and Larry Gassman Award Ceremony LIVE!! \nJoin from PC\, Mac\, iPad\, or Android: \nhttps://us02web.zoom.us/j/88516741196?pwd=IOP3dGbj3nXR5PJ5KFDKP5GTQjIotQ.1 \nWebinar ID: 885 1674 1196 \nPasscode: 432771
URL:https://www.repsonline.org/event/reps-showcase-2025-full-schedule/
LOCATION:Hotel 116\, 625 116th Avenue Northeast\,\, Bellevue\, WA\, 98004\, United States
CATEGORIES:REPS Presents LIVE,REPS Radio Event,REPS Showcase,Zoom: Performance
ATTACH;FMTTYPE=image/jpeg:https://www.repsonline.org/wp-content/uploads/2025/06/Showcase-2025-Postcard.jpg
END:VEVENT
BEGIN:VEVENT
DTSTART;TZID=America/Los_Angeles:20250918T190000
DTEND;TZID=America/Los_Angeles:20250918T223000
DTSTAMP:20260423T225145
CREATED:20250624T064804Z
LAST-MODIFIED:20250903T065529Z
UID:9419-1758222000-1758234600@www.repsonline.org
SUMMARY:REPS Showcase - Thursday - Evening Programs
DESCRIPTION:REPS SHOWCASE – FIRST NIGHT PROGRAM! \n  \nThursday 9-18-25 \n7 PM            Mr. Keen – Tracer of Lost Persons recreation LIVE starring David Ossman and Phil Proctor – Pine Room \n7:45 PM      The Saint recreation LIVE starring David Ossman and Phil Proctor – Pine Room \n8:30 PM       Nero Wolfe recreation LIVE starring David Ossman\, Phil Proctor and Larry Albert – Pine Room \n9:00 PM      An Evening with David Ossman and Phil Proctor – Q&A with audience participation – Pine Room \n  \n \n 
URL:https://www.repsonline.org/event/reps-showcase-thursday-evening-programs/
LOCATION:Hotel 116\, 625 116th Avenue Northeast\,\, Bellevue\, WA\, 98004\, United States
CATEGORIES:REPS Presents LIVE,REPS Showcase
ATTACH;FMTTYPE=image/jpeg:https://www.repsonline.org/wp-content/uploads/2025/06/Showcase-2025-Postcard.jpg
END:VEVENT
BEGIN:VEVENT
DTSTART;TZID=America/Los_Angeles:20250919T090000
DTEND;TZID=America/Los_Angeles:20250919T170000
DTSTAMP:20260423T225145
CREATED:20250624T065055Z
LAST-MODIFIED:20250906T074318Z
UID:9423-1758272400-1758301200@www.repsonline.org
SUMMARY:REPS Showcase - Friday - Daytime Programs
DESCRIPTION:REPS SHOWCASE – MORE GREAT PROGRAMS STARTING IN THE MORNING! \n  \nFriday 9-19-25 \n9 AM                     Doors Open \n9:15 AM               One Man’s Family recreation LIVE – Fir Room \n10 to 10:45 AM   Larry Gassman interview with Gigi Perreau – Fir Room \n11 to 11:45 AM     Larry Gassman interview with Bill Owen and Chuck Daugherty – Fir Room  \n2 PM                      Sam Spade starring Ron Cocking and Linda Bearman – Fir Room \n2:45 to 3:45 PM  Shaun Clancy interview with Jon Provost – Fir Room \n4:15 PM               Bob Hope Report recreation LIVE starring Bill Johnson – Pine Room \n 
URL:https://www.repsonline.org/event/reps-showcase-friday-daytime-programs/
LOCATION:Hotel 116\, 625 116th Avenue Northeast\,\, Bellevue\, WA\, 98004\, United States
CATEGORIES:REPS Presents LIVE,REPS Showcase
ATTACH;FMTTYPE=image/jpeg:https://www.repsonline.org/wp-content/uploads/2025/06/Showcase-2025-Postcard.jpg
END:VEVENT
BEGIN:VEVENT
DTSTART;TZID=America/Los_Angeles:20250919T190000
DTEND;TZID=America/Los_Angeles:20250919T223000
DTSTAMP:20260423T225145
CREATED:20250624T065316Z
LAST-MODIFIED:20250709T073949Z
UID:9427-1758308400-1758321000@www.repsonline.org
SUMMARY:REPS Showcase - Friday - Evening Programs
DESCRIPTION:REPS SHOWCASE EVENING PROGRAMS! \n  \nFriday 9-19-25 \n7 PM              Couple Next Door recreation LIVE starring Beverly Washburn\, Linda Bearman and Karolyn Grimes – Pine Room \n7:30 PM        Cavalcade of America: “Flight Nurse” recreation LIVE starring Margaret O’Brien and Gigi Perreau – Pine Room \n8:15 PM        My Friend Irma recreation LIVE starring Beverly Washburn\, Linda Bearman and Jon Provost – Pine Room \n9 PM              Ice Cream Social – Pine Room \n 
URL:https://www.repsonline.org/event/reps-showcase-friday-evening-programs/
LOCATION:Hotel 116\, 625 116th Avenue Northeast\,\, Bellevue\, WA\, 98004\, United States
CATEGORIES:REPS Presents LIVE,REPS Showcase
ATTACH;FMTTYPE=image/jpeg:https://www.repsonline.org/wp-content/uploads/2025/06/Showcase-2025-Postcard.jpg
END:VEVENT
BEGIN:VEVENT
DTSTART;TZID=America/Los_Angeles:20250920T090000
DTEND;TZID=America/Los_Angeles:20250920T180000
DTSTAMP:20260423T225145
CREATED:20250624T065559Z
LAST-MODIFIED:20250906T074419Z
UID:9431-1758358800-1758391200@www.repsonline.org
SUMMARY:REPS Showcase - Saturday - Daytime Programs
DESCRIPTION:REPS DAYTIME PROGRAMS FOR SATURDAY! \n  \nSaturday 9-20-25 \n9 AM                            Doors Open \n9:15 AM                       Dr. Christian recreation LIVE starring Bill Ratner  – Fir Room \n10 AM                          1975 Radio Special with Bing Crosby: A Discussion with John Jensen – Fir Room \n11:15 AM                     Hall of Ivy recreation LIVE starring Larry Albert and Linda Bearman – Pine Room \n 2:30 to 3:45 PM      Lux Radio Theater: The Bishop’s Wife recreation LIVE starring Karolyn Grimes – Fir Room \n4 to 5 PM                    Margaret O’Brien interview with Roger Kim \n 
URL:https://www.repsonline.org/event/reps-showcase-saturday-daytime-programs/
LOCATION:Hotel 116\, 625 116th Avenue Northeast\,\, Bellevue\, WA\, 98004\, United States
CATEGORIES:REPS Presents LIVE,REPS Showcase
ATTACH;FMTTYPE=image/jpeg:https://www.repsonline.org/wp-content/uploads/2025/06/Showcase-2025-Postcard.jpg
END:VEVENT
BEGIN:VEVENT
DTSTART;TZID=America/Los_Angeles:20250920T190000
DTEND;TZID=America/Los_Angeles:20250920T223000
DTSTAMP:20260423T225145
CREATED:20250624T070320Z
LAST-MODIFIED:20250709T074340Z
UID:9437-1758394800-1758407400@www.repsonline.org
SUMMARY:REPS Showcase - Saturday - Evening Programs
DESCRIPTION:REPS SHOWCASE SATURDAY NIGHT! \n  \nSaturday 9-20-25 \n7 PM                   Couple Next Door: Looking at Christmas Cards recreation LIVE starring Beverly Washburn\, Linda Bearman\, and Karolyn Grimes – Pine Room \n7-30 PM             Who’s on First? with John and Larry Gassman – Pine Room \n8:00 PM             The Six Shooter recreatsion LIVE starring Margaret O\,Brien\, Gigi Pereau\, Tommy Cook and Jon Provost – Pine Room \n8:45 PM              Yours Truly\, Johnny Dollar recreation LIVE starring Beverly Washburn\, Jon Provost\, Tommy Cook and Linda Bearman – Pine Room \n9:30 PM              Ice Cream Social – Pine Room \n 
URL:https://www.repsonline.org/event/reps-showcase-saturday-evening-programs/
LOCATION:Hotel 116\, 625 116th Avenue Northeast\,\, Bellevue\, WA\, 98004\, United States
CATEGORIES:REPS Presents LIVE,REPS Showcase
ATTACH;FMTTYPE=image/jpeg:https://www.repsonline.org/wp-content/uploads/2025/06/Showcase-2025-Postcard.jpg
END:VEVENT
BEGIN:VEVENT
DTSTART;TZID=America/Los_Angeles:20250921T090000
DTEND;TZID=America/Los_Angeles:20250921T123000
DTSTAMP:20260423T225145
CREATED:20250624T070536Z
LAST-MODIFIED:20250709T074413Z
UID:9441-1758445200-1758457800@www.repsonline.org
SUMMARY:REPS Showcase - Sunday - Daytime Program
DESCRIPTION:REPS SHOWCASE ENDS WITH OUR SUNDAY MORNING PROGRAM! \n  \nSunday 9-21-25 \n10 to 11:30 AM                John and Larry Gassman receive REPS Life Time Achievement Award 2025 – Fir Room  \n 
URL:https://www.repsonline.org/event/reps-showcase-sunday-daytime-program/
LOCATION:Hotel 116\, 625 116th Avenue Northeast\,\, Bellevue\, WA\, 98004\, United States
CATEGORIES:REPS Presents LIVE,REPS Showcase
ATTACH;FMTTYPE=image/jpeg:https://www.repsonline.org/wp-content/uploads/2025/06/Showcase-2025-Postcard.jpg
END:VEVENT
END:VCALENDAR