BEGIN:VCALENDAR
VERSION:2.0
PRODID:-//Radio Enthusiasts of Puget Sound - ECPv6.15.13//NONSGML v1.0//EN
CALSCALE:GREGORIAN
METHOD:PUBLISH
X-ORIGINAL-URL:https://www.repsonline.org
X-WR-CALDESC:Events for Radio Enthusiasts of Puget Sound
REFRESH-INTERVAL;VALUE=DURATION:PT1H
X-Robots-Tag:noindex
X-PUBLISHED-TTL:PT1H
BEGIN:VTIMEZONE
TZID:America/Los_Angeles
BEGIN:DAYLIGHT
TZOFFSETFROM:-0800
TZOFFSETTO:-0700
TZNAME:PDT
DTSTART:20220313T100000
END:DAYLIGHT
BEGIN:STANDARD
TZOFFSETFROM:-0700
TZOFFSETTO:-0800
TZNAME:PST
DTSTART:20221106T090000
END:STANDARD
BEGIN:DAYLIGHT
TZOFFSETFROM:-0800
TZOFFSETTO:-0700
TZNAME:PDT
DTSTART:20230312T100000
END:DAYLIGHT
BEGIN:STANDARD
TZOFFSETFROM:-0700
TZOFFSETTO:-0800
TZNAME:PST
DTSTART:20231105T090000
END:STANDARD
BEGIN:DAYLIGHT
TZOFFSETFROM:-0800
TZOFFSETTO:-0700
TZNAME:PDT
DTSTART:20240310T100000
END:DAYLIGHT
BEGIN:STANDARD
TZOFFSETFROM:-0700
TZOFFSETTO:-0800
TZNAME:PST
DTSTART:20241103T090000
END:STANDARD
END:VTIMEZONE
BEGIN:VEVENT
DTSTART;TZID=America/Los_Angeles:20231028T193000
DTEND;TZID=America/Los_Angeles:20231028T213000
DTSTAMP:20260423T155013
CREATED:20230901T071026Z
LAST-MODIFIED:20231026T151555Z
UID:8390-1698521400-1698528600@www.repsonline.org
SUMMARY:REPS Presents: Halloween Spooktacular 2023!!
DESCRIPTION:GET READY for thrills\, chills and… well\, some silly stuff\, too! \nHere comes our HALLOWEEN SPOOKTACULAR 2023!! \n \nJoin us for the fun as we bring you some classic Old Time Radio recreations with our talented REPS Players\, which will include Ryan Asbert\, Scott Beesho\, Rob Bowker\, Randy Clawson\, Lindsey Dabek\, Hilary Heinz Luthi\, Dean T. Moody\, Jenn Ollivier\, Jeanine Ollivier\, Jay Secord and more!\n\nProgram will include live recreations of Inner Sanctum\, Strange Dr. Weird\, Baby Snooks plus an original short entitled “Death is No Joke” by Roger Kim!\n  \nREPS HALLOWEEN SPOOKTACULAR 2023 \nLIVE at Kenyon Hall in West Seattle \n7904 35th Avenue SW\, Seattle\, WA 98126 \nSaturday\, October 28th \n7:30 PM PST \nTICKETS WILL BE RESERVED THROUGH KENYON HALL\, PLEASE CLICK HERE TO FIND TICKETS (it may be up closer to the event)! \n  \nDirected by Roger Kim \nLive SFX by Bruce Johnson \nLive Organ Music by Sawyer Best \nAudio Engineering\, Lights and AV by Jim Dolan and Ryan Asbert \nZOOM LINK BELOW!! \nWe hope to have this program LIVE depending on the connection at Kenyon Hall. \nWhen: Oct 28\, 2023 07:30 PM Pacific Time (US and Canada)\nTopic: REPS Spooktacular 2023 – LIVE at Kenyon Hall! \nPlease click the link below to join the webinar:\nhttps://us02web.zoom.us/j/88574009496?pwd=ZElpVWpQMEJaSVhxbUtSMTRXSVRwZz09 \nPasscode: 219407 \nOr One tap mobile :\n+12532050468\,\,88574009496#\,\,\,\,*219407# US\n+12532158782\,\,88574009496#\,\,\,\,*219407# US (Tacoma)\nOr Telephone:\nDial(for higher quality\, dial a number based on your current location):\n+1 253 205 0468 US\n+1 253 215 8782 US (Tacoma)\n+1 346 248 7799 US (Houston)\n+1 669 444 9171 US\n+1 669 900 9128 US (San Jose)\n+1 719 359 4580 US\n+1 507 473 4847 US\n+1 564 217 2000 US\n+1 646 558 8656 US (New York)\n+1 646 931 3860 US\n+1 689 278 1000 US\n+1 301 715 8592 US (Washington DC)\n+1 305 224 1968 US\n+1 309 205 3325 US\n+1 312 626 6799 US (Chicago)\n+1 360 209 5623 US\n+1 386 347 5053 US \nWebinar ID: 885 7400 9496\nPasscode: 219407 \nInternational numbers available: https://us02web.zoom.us/u/keep3DeCYF \n  \n  \n 
URL:https://www.repsonline.org/event/reps-presents-halloween-spooktacular-2023/
LOCATION:Kenyon Hall\, 7904 35th Avenue SW\, Seattle\, WA\, 98126\, United States
CATEGORIES:REPS Presents LIVE
ATTACH;FMTTYPE=image/png:https://www.repsonline.org/wp-content/uploads/2023/08/REPS_Halloween_2023_ad_v3.png
END:VEVENT
END:VCALENDAR