BEGIN:VCALENDAR
VERSION:2.0
PRODID:-//Radio Enthusiasts of Puget Sound - ECPv6.15.13//NONSGML v1.0//EN
CALSCALE:GREGORIAN
METHOD:PUBLISH
X-WR-CALNAME:Radio Enthusiasts of Puget Sound
X-ORIGINAL-URL:https://www.repsonline.org
X-WR-CALDESC:Events for Radio Enthusiasts of Puget Sound
REFRESH-INTERVAL;VALUE=DURATION:PT1H
X-Robots-Tag:noindex
X-PUBLISHED-TTL:PT1H
BEGIN:VTIMEZONE
TZID:America/Los_Angeles
BEGIN:DAYLIGHT
TZOFFSETFROM:-0800
TZOFFSETTO:-0700
TZNAME:PDT
DTSTART:20220313T100000
END:DAYLIGHT
BEGIN:STANDARD
TZOFFSETFROM:-0700
TZOFFSETTO:-0800
TZNAME:PST
DTSTART:20221106T090000
END:STANDARD
BEGIN:DAYLIGHT
TZOFFSETFROM:-0800
TZOFFSETTO:-0700
TZNAME:PDT
DTSTART:20230312T100000
END:DAYLIGHT
BEGIN:STANDARD
TZOFFSETFROM:-0700
TZOFFSETTO:-0800
TZNAME:PST
DTSTART:20231105T090000
END:STANDARD
BEGIN:DAYLIGHT
TZOFFSETFROM:-0800
TZOFFSETTO:-0700
TZNAME:PDT
DTSTART:20240310T100000
END:DAYLIGHT
BEGIN:STANDARD
TZOFFSETFROM:-0700
TZOFFSETTO:-0800
TZNAME:PST
DTSTART:20241103T090000
END:STANDARD
BEGIN:DAYLIGHT
TZOFFSETFROM:-0800
TZOFFSETTO:-0700
TZNAME:PDT
DTSTART:20250309T100000
END:DAYLIGHT
BEGIN:STANDARD
TZOFFSETFROM:-0700
TZOFFSETTO:-0800
TZNAME:PST
DTSTART:20251102T090000
END:STANDARD
BEGIN:DAYLIGHT
TZOFFSETFROM:-0800
TZOFFSETTO:-0700
TZNAME:PDT
DTSTART:20260308T100000
END:DAYLIGHT
BEGIN:STANDARD
TZOFFSETFROM:-0700
TZOFFSETTO:-0800
TZNAME:PST
DTSTART:20261101T090000
END:STANDARD
END:VTIMEZONE
BEGIN:VEVENT
DTSTART;TZID=America/Los_Angeles:20250810T140000
DTEND;TZID=America/Los_Angeles:20250810T160000
DTSTAMP:20260423T153400
CREATED:20250705T231732Z
LAST-MODIFIED:20250810T014636Z
UID:9459-1754834400-1754841600@www.repsonline.org
SUMMARY:REPS Community Picnic & Summer Show 2025!
DESCRIPTION:Join us for our REPS Community Picnic this summer! \nSAVE THE DATE – Sunday\, August 10th!! \nEnjoy an afternoon with REPS outside in the sun\, picnic foods and a live OTR recreation – details coming soon! \nEVENT SCHEDULE: \nRSVP for address! \n2-4 PM PST \n1:30 – 2:30 PM     Lunch prepped and served (we will have hot dogs\, chips and picnic foods)\n3:00 PM                   Performances (Zoom will start around 3 PM PST)\n\nShows for this year include LIVE recreations of Vic & Sade with Larry Albert and Monica Chilton and Ethel & Albert with Larry Albert and Lindsey Dabek\, plus Jim Dolan on Sound Engineering\, Bruce Johnson on LIVE SFX and Ryan Asbert on Video Production.\n\nJoin us virtually!  Check out the ZOOM info below:\n\n\nWhen: Aug 10\, 2025 03:00 PM Pacific Time (US and Canada)\nTopic:  REPS Picnic: Vic & Sade LIVE and Ethel & Albert LIVE!\n\nJoin from PC\, Mac\, iPad\, or Android:\nhttps://us02web.zoom.us/j/81840419713?pwd=30BOpd9rRqgVYNmdOhFKFIHz4BhSAb.1\nPasscode:956674\n\nWebinar ID: 818 4041 9713\nPasscode: 956674\nInternational numbers available: https://us02web.zoom.us/u/kduL2jZCXs\n\nWe hope to see you there!\n\n\nREPS 2024 picnic photo below by Randy Clawson – OTR fun in hosted at the lovely home of one of our awesome SFX performers\, Bruce Johnson!
URL:https://www.repsonline.org/event/reps-community-picnic-summer-show-2025/
LOCATION:In-Person Event
CATEGORIES:REPS Meeting,Zoom: Performance
ATTACH;FMTTYPE=image/jpeg:https://www.repsonline.org/wp-content/uploads/2025/07/REPSpicnic20242edit-scaled.jpg
END:VEVENT
BEGIN:VEVENT
DTSTART;TZID=America/Los_Angeles:20240811T140000
DTEND;TZID=America/Los_Angeles:20240811T160000
DTSTAMP:20260423T153400
CREATED:20240608T055559Z
LAST-MODIFIED:20240809T064753Z
UID:9019-1723384800-1723392000@www.repsonline.org
SUMMARY:REPS Community Picnic & Summer Show!
DESCRIPTION:Join us for our REPS Community Picnic this summer! \nSAVE THE DATE – Sunday\, August 11th!! \nEnjoy an afternoon with REPS outside in the sun\, picnic foods and a live Tribute to Red Skelton with Bryan Hendrickson and Bruce Johnson! \nEVENT SCHEDULE: \nRSVP for address! \n2-4 PM PST \n1:30 – 2:30 PM     Lunch prepped and served (we will have hot dogs\, chips and picnic foods)\n3:00 PM                   Performances (Zoom will start around 3 PM PST)\n\n\n \nRSVP with the link in this event page to let us know you are interested! \nThis event is held at a home of a member\, so we will send address to the RSVP list on Friday\, August 9th. \nWhen: Aug 11\, 2024 03:00 PM Pacific Time (US and Canada)\nTopic: REPS Picnic – A Tribute to Red Skelton with Bryan Hendrickson and Bruce Johnson! \nPlease click the link below to join the webinar:\nhttps://us02web.zoom.us/j/84803620959?pwd=zaUJMpeFOCQMPHiXn4IOIEkaMhpAtE.1 \nPasscode: 531745 \nTHANK YOU!
URL:https://www.repsonline.org/event/reps-community-picnic-summer-show/
LOCATION:In-Person Event
CATEGORIES:REPS Meeting,REPS Presents LIVE
ATTACH;FMTTYPE=image/jpeg:https://www.repsonline.org/wp-content/uploads/2024/06/Picnic-Flyer-2024-scaled.jpg
END:VEVENT
BEGIN:VEVENT
DTSTART;TZID=America/Los_Angeles:20231118T140000
DTEND;TZID=America/Los_Angeles:20231118T160000
DTSTAMP:20260423T153400
CREATED:20231109T063613Z
LAST-MODIFIED:20231111T081522Z
UID:8464-1700316000-1700323200@www.repsonline.org
SUMMARY:REPS Meeting: The Whistler and The Shadow!
DESCRIPTION:It’s a REPS Meeting! \nJoin the REPS Players in two recreations LIVE in November: \nREPS Meeting:  The Whistler and The Shadow \nSaturday\, Nov 18th  \n2-4 PM \nWedgwood Community Church \n8201  30th Ave  NE \nSeattle\, 98115 \n \nMeeting will feature two recreations directed by David Persson \nCast and Information: \nThe Whistler \nThe Whistler: Tom StewartAnnouncer: David PerssonPamela: Gail WambaKathy: Alice BridgforthSally and Mrs Stokes: Monica ChiltonDr Johnson\, Mr Kennedy\, Policeman: Josh KibbeyMr Watkins and Mr Spencer: Randy Clawson \n  \nThe Shadow \nLamont Cranston: Tom StewartMargot Lane: Monica ChiltonInspector Weston: Josh KibbeyHelen/Medusa: Gail WambaLucy: Alice BridgforthAdams/Boy in park: Randy ClawsonAnnouncer/Baker/Newsman: David Persson \n  \nLIVE SFX by Bruce Johnson \nSound Engineering by Jim Dolan \nVideo Production by Ryan Asbert \n  \nTo be LIVE via ZOOM if connection allows: \nWhen: Nov 18\, 2023 02:00 PM Pacific Time (US and Canada)\nTopic: REPS Meeting: The Whistler and The Shadow! \nPlease click the link below to join the webinar:\nhttps://us02web.zoom.us/j/87378880676?pwd=MGwvYkJFQjRzZkptUnV6QmY2NE14UT09\nPasscode: 661995 \nOr One tap mobile :\n+12532050468\,\,87378880676#\,\,\,\,*661995# US\n+12532158782\,\,87378880676#\,\,\,\,*661995# US (Tacoma)\nOr Telephone:\nDial(for higher quality\, dial a number based on your current location):\n+1 253 205 0468 US\n+1 253 215 8782 US (Tacoma)\n+1 346 248 7799 US (Houston)\n+1 669 444 9171 US\n+1 669 900 9128 US (San Jose)\n+1 719 359 4580 US\n+1 305 224 1968 US\n+1 309 205 3325 US\n+1 312 626 6799 US (Chicago)\n+1 360 209 5623 US\n+1 386 347 5053 US\n+1 507 473 4847 US\n+1 564 217 2000 US\n+1 646 558 8656 US (New York)\n+1 646 931 3860 US\n+1 689 278 1000 US\n+1 301 715 8592 US (Washington DC) \nWebinar ID: 873 7888 0676\nPasscode: 661995\nInternational numbers available: https://us02web.zoom.us/u/kDaMjtKEa \n  \n 
URL:https://www.repsonline.org/event/reps-meeting-the-whistler-and-the-shadow/
LOCATION:8201  30th Ave  NE  Seattle\, 98115\, 8201 30th Ave NE\, Seattle\, WA\, 98115\, United States
CATEGORIES:REPS Meeting
END:VEVENT
END:VCALENDAR